BEGIN:VCALENDAR
VERSION:2.0
PRODID:-//UNIVERSITY OF TEXAS SCHOOL OF LAW//NONSGML Events Calendar v1.0//EN
X-WR-TIMEZONE:America/Chicago
BEGIN:VTIMEZONE
TZID:US/Central
X-LIC-LOCATION:America/Chicago
BEGIN:DAYLIGHT
TZOFFSETFROM:-0600
TZOFFSETTO:-0500
TZNAME:CDT
DTSTART:19700308T020000
RRULE:FREQ=YEARLY;BYMONTH=3;BYDAY=2SU
END:DAYLIGHT
BEGIN:STANDARD
TZOFFSETFROM:-0500
TZOFFSETTO:-0600
TZNAME:CST
DTSTART:19701101T020000
RRULE:FREQ=YEARLY;BYMONTH=11;BYDAY=1SU
END:STANDARD
END:VTIMEZONE
BEGIN:VEVENT
DTSTART;TZID=US/Central:20120413T113000
DTEND;VALUE=DATE-TIME;TZID=US/Central:20120413T123000

DTSTAMP:20260423T121900Z
CREATED:20110524T181200Z
LAST-MODIFIED:20120404T201100Z
UID:20120413T113000-11918@law.utexas.edu
SUMMARY:Federal Courts Judicial Clerkship Panel
DESCRIPTION:<p>A panel of Texas federal judges will discuss judicial clerkships at their courts and what students can do to make themselves competitive clerkship candidates. Panelists include <a href="http://en.wikipedia.org/wiki/Catharina_Haynes">Judge Catharina Haynes</a>, U.S. Court of Appeals for the Fifth Circuit; <a title="Hon. Rodney Gilstrap" href="http://www.txed.uscourts.gov/page1.shtml?location=info:judge&amp;judge=17">Judge Rodney Gilstrap,</a> U.S. District Court for the Eastern District of Texas; <a href="http://www.txwb.uscourts.gov/wikis/cag/index.php5/Main_Page">Judge Craig Gargotta</a>, U.S. Bankruptcy Court for the Western District of Texas; and Magistrate Judge David Counts, U.S. Magistrate Court for the Northern District of Texas. Moderated by Dean Stefanie Lindquist. The Clerkship Advisors encourage 2Ls and 3Ls applying for judicial clerkships this year and 1Ls hoping to apply next summer to attend this panel.</p>
  <p>RSVP on <a title="UT Law Symplicity" href="https://law-utexas-csm.symplicity.com/students/">UT Law Symplicity</a> by Thursday, April 12, by selecting the 'Events' tab.</p>\n\nIf you need an accommodation to participate in this event, please contact the event sponsor or the Texas Law Special Events Office at specialevents@law.utexas.edu no later than seven business days prior to the event.
X-ALT-DESC;FMTTYPE=text/html:<p>A panel of Texas federal judges will discuss judicial clerkships at their courts and what students can do to make themselves competitive clerkship candidates. Panelists include <a href="http://en.wikipedia.org/wiki/Catharina_Haynes">Judge Catharina Haynes</a>, U.S. Court of Appeals for the Fifth Circuit; <a title="Hon. Rodney Gilstrap" href="http://www.txed.uscourts.gov/page1.shtml?location=info:judge&amp;judge=17">Judge Rodney Gilstrap,</a> U.S. District Court for the Eastern District of Texas; <a href="http://www.txwb.uscourts.gov/wikis/cag/index.php5/Main_Page">Judge Craig Gargotta</a>, U.S. Bankruptcy Court for the Western District of Texas; and Magistrate Judge David Counts, U.S. Magistrate Court for the Northern District of Texas. Moderated by Dean Stefanie Lindquist. The Clerkship Advisors encourage 2Ls and 3Ls applying for judicial clerkships this year and 1Ls hoping to apply next summer to attend this panel.</p>
  <p>RSVP on <a title="UT Law Symplicity" href="https://law-utexas-csm.symplicity.com/students/">UT Law Symplicity</a> by Thursday, April 12, by selecting the 'Events' tab.</p><p>If you need an accommodation to participate in this event, please contact the event
                                          event sponsor or the Texas Law Special Events Office at <a href="mailto:specialevents@law.utexas.edu">specialevents@law.utexas.edu</a> no later than seven business days prior to the event.</p>
CATEGORIES:Panel Discussion / Speaker Series
LOCATION:CCJ 2.306 - Eidman Courtroom
URL:http://law.utexas.edu/calendar/2012/04/13/11918/
CLASS:PUBLIC
STATUS:CONFIRMED
COMMENT:Please contact Remi Ratliff, Director of Judicial Programs, at 512-232-1163 or <a href="mailto:rrattliff@law.utexas.edu">rratliff@law.utexas.edu</a>.
END:VEVENT
END:VCALENDAR