BEGIN:VCALENDAR
VERSION:2.0
PRODID:-//UNIVERSITY OF TEXAS SCHOOL OF LAW//NONSGML Events Calendar v1.0//EN
X-WR-TIMEZONE:America/Chicago
BEGIN:VTIMEZONE
TZID:US/Central
X-LIC-LOCATION:America/Chicago
BEGIN:DAYLIGHT
TZOFFSETFROM:-0600
TZOFFSETTO:-0500
TZNAME:CDT
DTSTART:19700308T020000
RRULE:FREQ=YEARLY;BYMONTH=3;BYDAY=2SU
END:DAYLIGHT
BEGIN:STANDARD
TZOFFSETFROM:-0500
TZOFFSETTO:-0600
TZNAME:CST
DTSTART:19701101T020000
RRULE:FREQ=YEARLY;BYMONTH=11;BYDAY=1SU
END:STANDARD
END:VTIMEZONE
BEGIN:VEVENT
DTSTART;TZID=US/Central:20120416T153000
DTEND;VALUE=DATE-TIME;TZID=US/Central:20120416T170000

DTSTAMP:20260423T135400Z
CREATED:20120217T213700Z
LAST-MODIFIED:20120411T190100Z
UID:20120416T153000-13923@law.utexas.edu
SUMMARY:Human Rights Happy Hour: Benjamin Gregg
DESCRIPTION:<p>Please join us for the final human rights happy hour talk of the year, featuring Benjamin Gregg, Associate Professor of Government, entitled "The Social Construction of Human Rights in Africa." Catherine Boone, Professor of Government, will serve as respondent. Light refreshments will be served.</p>\n\nIf you need an accommodation to participate in this event, please contact the event sponsor or the Texas Law Special Events Office at specialevents@law.utexas.edu no later than seven business days prior to the event.
X-ALT-DESC;FMTTYPE=text/html:<p>Please join us for the final human rights happy hour talk of the year, featuring Benjamin Gregg, Associate Professor of Government, entitled "The Social Construction of Human Rights in Africa." Catherine Boone, Professor of Government, will serve as respondent. Light refreshments will be served.</p><p>If you need an accommodation to participate in this event, please contact the event
                                          event sponsor or the Texas Law Special Events Office at <a href="mailto:specialevents@law.utexas.edu">specialevents@law.utexas.edu</a> no later than seven business days prior to the event.</p>
CATEGORIES:Panel Discussion / Speaker Series
LOCATION:TNH 2.111 - Sheffield-Massey Room
URL:http://law.utexas.edu/calendar/2012/04/16/13923/
CLASS:PUBLIC
STATUS:CONFIRMED

END:VEVENT
END:VCALENDAR