BEGIN:VCALENDAR
VERSION:2.0
PRODID:-//UNIVERSITY OF TEXAS SCHOOL OF LAW//NONSGML Events Calendar v1.0//EN
X-WR-TIMEZONE:America/Chicago
BEGIN:VTIMEZONE
TZID:US/Central
X-LIC-LOCATION:America/Chicago
BEGIN:DAYLIGHT
TZOFFSETFROM:-0600
TZOFFSETTO:-0500
TZNAME:CDT
DTSTART:19700308T020000
RRULE:FREQ=YEARLY;BYMONTH=3;BYDAY=2SU
END:DAYLIGHT
BEGIN:STANDARD
TZOFFSETFROM:-0500
TZOFFSETTO:-0600
TZNAME:CST
DTSTART:19701101T020000
RRULE:FREQ=YEARLY;BYMONTH=11;BYDAY=1SU
END:STANDARD
END:VTIMEZONE
BEGIN:VEVENT
DTSTART;TZID=US/Central:20120417T153000
DTEND;VALUE=DATE-TIME;TZID=US/Central:20120417T170000

DTSTAMP:20260423T150000Z
CREATED:20120119T011200Z
LAST-MODIFIED:20120416T141800Z
UID:20120417T153000-13527@law.utexas.edu
SUMMARY:Preparing for Public Service Internships
DESCRIPTION:<p>In the first hour, learn the tips and tools you’ll need to succeed in your summer internship whether you’re working in a government agency or public interest organization. Panelists include Bill Beardall, Executive Director of the <a title="Equal Justice Center" href="http://equaljusticecenter.org/">Equal Justice Center</a> and Director of the <a title="Transnational Workers Rights Clinic" href="http://www.utexas.edu/law/clinics/transnational/">Transnational Workers Rights Clinic</a> at UT Law; Mark Levy, Assistant Attorney General, <a title="Texas OAG Antitrust Section" href="https://www.oag.state.tx.us/consumer/antitrust.shtml">Office of the Texas Attorney General-Antitrust Division</a>; and Tina Fernandez, Director of <a href="http://www.utexas.edu/law/centers/publicinterest/probono/">Pro Bono Programs</a> at UT Law.</p>
  <p>At 4:30 p.m., speak with Tarlton Law Librarians about legal research strategies for summer assignments. They’ll discuss options for places to research, what questions to ask when you receive an assignment, and best practices for deciding where to start your research. Examples of actual summer assignments from students who worked in public interest jobs will be presented.</p>
  <p>RSVP on <a title="UT Law Symplicity" href="https://law-utexas-csm.symplicity.com/students/">UT Law Symplicity</a> by Monday, April 16, by selecting the 'Events' tab.</p>\n\nIf you need an accommodation to participate in this event, please contact the event sponsor or the Texas Law Special Events Office at specialevents@law.utexas.edu no later than seven business days prior to the event.
X-ALT-DESC;FMTTYPE=text/html:<p>In the first hour, learn the tips and tools you’ll need to succeed in your summer internship whether you’re working in a government agency or public interest organization. Panelists include Bill Beardall, Executive Director of the <a title="Equal Justice Center" href="http://equaljusticecenter.org/">Equal Justice Center</a> and Director of the <a title="Transnational Workers Rights Clinic" href="http://www.utexas.edu/law/clinics/transnational/">Transnational Workers Rights Clinic</a> at UT Law; Mark Levy, Assistant Attorney General, <a title="Texas OAG Antitrust Section" href="https://www.oag.state.tx.us/consumer/antitrust.shtml">Office of the Texas Attorney General-Antitrust Division</a>; and Tina Fernandez, Director of <a href="http://www.utexas.edu/law/centers/publicinterest/probono/">Pro Bono Programs</a> at UT Law.</p>
  <p>At 4:30 p.m., speak with Tarlton Law Librarians about legal research strategies for summer assignments. They’ll discuss options for places to research, what questions to ask when you receive an assignment, and best practices for deciding where to start your research. Examples of actual summer assignments from students who worked in public interest jobs will be presented.</p>
  <p>RSVP on <a title="UT Law Symplicity" href="https://law-utexas-csm.symplicity.com/students/">UT Law Symplicity</a> by Monday, April 16, by selecting the 'Events' tab.</p><p>If you need an accommodation to participate in this event, please contact the event
                                          event sponsor or the Texas Law Special Events Office at <a href="mailto:specialevents@law.utexas.edu">specialevents@law.utexas.edu</a> no later than seven business days prior to the event.</p>
CATEGORIES:Workshop / Training Program
LOCATION:TNH 2.114 - Francis Auditorium
URL:http://law.utexas.edu/calendar/2012/04/17/13527/
CLASS:PUBLIC
STATUS:CONFIRMED
COMMENT:Please contact Nicole Simmons, Public Interest Career Counselor, at 512-232-1160 or <a href="mailto:nsimmons@law.utexas.edu">nsimmons@law.utexas.edu</a>.
END:VEVENT
END:VCALENDAR