BEGIN:VCALENDAR
VERSION:2.0
PRODID:-//UNIVERSITY OF TEXAS SCHOOL OF LAW//NONSGML Events Calendar v1.0//EN
X-WR-TIMEZONE:America/Chicago
BEGIN:VTIMEZONE
TZID:US/Central
X-LIC-LOCATION:America/Chicago
BEGIN:DAYLIGHT
TZOFFSETFROM:-0600
TZOFFSETTO:-0500
TZNAME:CDT
DTSTART:19700308T020000
RRULE:FREQ=YEARLY;BYMONTH=3;BYDAY=2SU
END:DAYLIGHT
BEGIN:STANDARD
TZOFFSETFROM:-0500
TZOFFSETTO:-0600
TZNAME:CST
DTSTART:19701101T020000
RRULE:FREQ=YEARLY;BYMONTH=11;BYDAY=1SU
END:STANDARD
END:VTIMEZONE
BEGIN:VEVENT
DTSTART;TZID=US/Central:20120417T093000
DTEND;VALUE=DATE-TIME;TZID=US/Central:20120417T133000

DTSTAMP:20260423T122000Z
CREATED:20120119T011500Z
LAST-MODIFIED:20120416T144900Z
UID:20120417T093000-13528@law.utexas.edu
SUMMARY:CSO Study Break
DESCRIPTION:<p>Need to take a break from studying for exams? Stop by the Atrium, visit with the CSO staff, have a snack, and find out about summer and fall interviewing opportunities. 
  The Study Break is sponsored by <a href="http://www.andrewskurth.com/">Andrews Kurth LLP</a>; <a href="http://www.bracewellgiuliani.com/">Bracewell &amp; Giuliani</a>; <a href="http://www.lockelord.com/">Locke Lord LLP</a>; <a href="http://www.mckoolsmith.com/">McKool Smith</a>; <a href="http://www.morganlewis.com/">Morgan Lewis &amp; Bockius LLP</a>; <a href="http://www.nixlawfirm.com/">Nix, Patterson &amp; Roach, LLP</a>; <a href="http://www.marines.mil/Pages/Default.aspx">U.S. Marine Corps</a>; <a href="http://www.weil.com/">Weil Gotschal &amp; Manges LLP</a>; <a href="http://www.akingump.com/">Akin Gump Strauss Hauer &amp; Feld LLP</a>; <a href="http://www.bakerbotts.com/">Baker Botts L.L.P.</a>; <a href="http://www.cadwalader.com/">Cadwalader, Wickersham and Taft LLP</a>; <a href="http://www.coxsmith.com/">Cox | Smith</a>; <a href="http://www.fulbright.com/">Fulbright and Jaworski L.L.P.</a>; <a href="http://www.lw.com/">Latham &amp; Watkins LLP</a>; <a href="http://www.winston.com/">Winston &amp; Strawn LLP</a>; <a href="http://www.anadarko.com/Home/Pages/Home.aspx">Anadarko</a>; <a href="http://www.brsfirm.com/">Beck, Redden &amp; Secrest L.L.P.</a>; <a href="http://www.huschblackwell.com/">Husch Blackwell LLP</a>; <a href="http://www.jw.com/">Jackson Walker L.L.P.</a>; <a title="Jones Day" href="http://www.jonesday.com/">Jones Day</a>; <a title="King &amp; Spalding" href="http://www.kslaw.com/">King &amp; Spalding</a>; <a href="http://www.lrmlaw.com/">Looper Reed &amp; McGraw, P.C.</a>; <a href="http://www.mayerbrown.com/">Mayer Brown</a>; <a href="http://www.munsch.com/">Munsch Hardt Kopf &amp; Harr, P.C.</a>; <a href="http://nathansommers.com/">Nathan Sommers Jacob</a>; and <a href="http://www.tklaw.com/">Thompson Knight LLP</a>.</p>\n\nIf you need an accommodation to participate in this event, please contact the event sponsor or the Texas Law Special Events Office at specialevents@law.utexas.edu no later than seven business days prior to the event.
X-ALT-DESC;FMTTYPE=text/html:<p>Need to take a break from studying for exams? Stop by the Atrium, visit with the CSO staff, have a snack, and find out about summer and fall interviewing opportunities. 
  The Study Break is sponsored by <a href="http://www.andrewskurth.com/">Andrews Kurth LLP</a>; <a href="http://www.bracewellgiuliani.com/">Bracewell &amp; Giuliani</a>; <a href="http://www.lockelord.com/">Locke Lord LLP</a>; <a href="http://www.mckoolsmith.com/">McKool Smith</a>; <a href="http://www.morganlewis.com/">Morgan Lewis &amp; Bockius LLP</a>; <a href="http://www.nixlawfirm.com/">Nix, Patterson &amp; Roach, LLP</a>; <a href="http://www.marines.mil/Pages/Default.aspx">U.S. Marine Corps</a>; <a href="http://www.weil.com/">Weil Gotschal &amp; Manges LLP</a>; <a href="http://www.akingump.com/">Akin Gump Strauss Hauer &amp; Feld LLP</a>; <a href="http://www.bakerbotts.com/">Baker Botts L.L.P.</a>; <a href="http://www.cadwalader.com/">Cadwalader, Wickersham and Taft LLP</a>; <a href="http://www.coxsmith.com/">Cox | Smith</a>; <a href="http://www.fulbright.com/">Fulbright and Jaworski L.L.P.</a>; <a href="http://www.lw.com/">Latham &amp; Watkins LLP</a>; <a href="http://www.winston.com/">Winston &amp; Strawn LLP</a>; <a href="http://www.anadarko.com/Home/Pages/Home.aspx">Anadarko</a>; <a href="http://www.brsfirm.com/">Beck, Redden &amp; Secrest L.L.P.</a>; <a href="http://www.huschblackwell.com/">Husch Blackwell LLP</a>; <a href="http://www.jw.com/">Jackson Walker L.L.P.</a>; <a title="Jones Day" href="http://www.jonesday.com/">Jones Day</a>; <a title="King &amp; Spalding" href="http://www.kslaw.com/">King &amp; Spalding</a>; <a href="http://www.lrmlaw.com/">Looper Reed &amp; McGraw, P.C.</a>; <a href="http://www.mayerbrown.com/">Mayer Brown</a>; <a href="http://www.munsch.com/">Munsch Hardt Kopf &amp; Harr, P.C.</a>; <a href="http://nathansommers.com/">Nathan Sommers Jacob</a>; and <a href="http://www.tklaw.com/">Thompson Knight LLP</a>.</p><p>If you need an accommodation to participate in this event, please contact the event
                                          event sponsor or the Texas Law Special Events Office at <a href="mailto:specialevents@law.utexas.edu">specialevents@law.utexas.edu</a> no later than seven business days prior to the event.</p>
CATEGORIES:Other
LOCATION:TNH 2.100 - Susman Godfrey Atrium
URL:http://law.utexas.edu/calendar/2012/04/17/13528/
CLASS:PUBLIC
STATUS:CONFIRMED
COMMENT:Please contact Denyse Demel, Government Career Counselor, at 512-232-1162 or <a href="mailto:ddemel@law.utexas.edu">ddemel@law.utexas.edu</a>.
END:VEVENT
END:VCALENDAR