BEGIN:VCALENDAR
VERSION:2.0
PRODID:-//UNIVERSITY OF TEXAS SCHOOL OF LAW//NONSGML Events Calendar v1.0//EN
X-WR-TIMEZONE:America/Chicago
BEGIN:VTIMEZONE
TZID:US/Central
X-LIC-LOCATION:America/Chicago
BEGIN:DAYLIGHT
TZOFFSETFROM:-0600
TZOFFSETTO:-0500
TZNAME:CDT
DTSTART:19700308T020000
RRULE:FREQ=YEARLY;BYMONTH=3;BYDAY=2SU
END:DAYLIGHT
BEGIN:STANDARD
TZOFFSETFROM:-0500
TZOFFSETTO:-0600
TZNAME:CST
DTSTART:19701101T020000
RRULE:FREQ=YEARLY;BYMONTH=11;BYDAY=1SU
END:STANDARD
END:VTIMEZONE
BEGIN:VEVENT
DTSTART;TZID=US/Central:20120417T173000
DTEND;VALUE=DATE-TIME;TZID=US/Central:20120417T183000

DTSTAMP:20260423T135300Z
CREATED:20120404T151300Z
LAST-MODIFIED:20120404T151300Z
UID:20120417T173000-14248@law.utexas.edu
SUMMARY:ACCS Meeting &amp; Elections
DESCRIPTION:<p>Before the semester comes to an end, the <a title="Action Committee for Career Services (ACCS)" href="http://www.utexas.edu/law/career/accs/index.html">Action Committee for Career Services (ACCS</a>) are gearing up to have a successful 2012-13 academic year. We will be holding elections and talking about what we want to accomplish next year.</p>
  <p>The positions that will be up for grabs are President, Vice President, Secretary, Treasurer, and 2L Representative.  If you are interested in running for one of these positions, please send your name, the position you are running for, and a few sentences about why you would be good for the job to Nick Stepp, ACCS President at <a href="mailto:nicholas.stepp@gmail.com">nicholas.stepp@gmail.com</a> and Lynn Abell, ACCS Vice President at <a href="mailto:lynn.abell@mail.utexas.edu">lynn.abell@mail.utexas.edu</a> by Friday, April 13.
  </p>\n\nIf you need an accommodation to participate in this event, please contact the event sponsor or the Texas Law Special Events Office at specialevents@law.utexas.edu no later than seven business days prior to the event.
X-ALT-DESC;FMTTYPE=text/html:<p>Before the semester comes to an end, the <a title="Action Committee for Career Services (ACCS)" href="http://www.utexas.edu/law/career/accs/index.html">Action Committee for Career Services (ACCS</a>) are gearing up to have a successful 2012-13 academic year. We will be holding elections and talking about what we want to accomplish next year.</p>
  <p>The positions that will be up for grabs are President, Vice President, Secretary, Treasurer, and 2L Representative.  If you are interested in running for one of these positions, please send your name, the position you are running for, and a few sentences about why you would be good for the job to Nick Stepp, ACCS President at <a href="mailto:nicholas.stepp@gmail.com">nicholas.stepp@gmail.com</a> and Lynn Abell, ACCS Vice President at <a href="mailto:lynn.abell@mail.utexas.edu">lynn.abell@mail.utexas.edu</a> by Friday, April 13.
  </p><p>If you need an accommodation to participate in this event, please contact the event
                                          event sponsor or the Texas Law Special Events Office at <a href="mailto:specialevents@law.utexas.edu">specialevents@law.utexas.edu</a> no later than seven business days prior to the event.</p>
CATEGORIES:Meeting
LOCATION:Career Services Interview Suite (TNH 3.122)
URL:http://law.utexas.edu/calendar/2012/04/17/14248/
CLASS:PUBLIC
STATUS:CONFIRMED
COMMENT:Please contact Nick Stepp, ACCS President, at nicholas.stepp@gmail.com.
END:VEVENT
END:VCALENDAR