BEGIN:VCALENDAR
VERSION:2.0
PRODID:-//UNIVERSITY OF TEXAS SCHOOL OF LAW//NONSGML Events Calendar v1.0//EN
X-WR-TIMEZONE:America/Chicago
BEGIN:VTIMEZONE
TZID:US/Central
X-LIC-LOCATION:America/Chicago
BEGIN:DAYLIGHT
TZOFFSETFROM:-0600
TZOFFSETTO:-0500
TZNAME:CDT
DTSTART:19700308T020000
RRULE:FREQ=YEARLY;BYMONTH=3;BYDAY=2SU
END:DAYLIGHT
BEGIN:STANDARD
TZOFFSETFROM:-0500
TZOFFSETTO:-0600
TZNAME:CST
DTSTART:19701101T020000
RRULE:FREQ=YEARLY;BYMONTH=11;BYDAY=1SU
END:STANDARD
END:VTIMEZONE
BEGIN:VEVENT
DTSTART;TZID=US/Central:20120419T123000
DTEND;VALUE=DATE-TIME;TZID=US/Central:20120419T133000

DTSTAMP:20260423T164300Z
CREATED:20120124T163000Z
LAST-MODIFIED:20120124T163000Z
UID:20120419T123000-13599@law.utexas.edu
SUMMARY:Judicial Clerkship Advice from 3Ls
DESCRIPTION:<p>Don’t miss this opportunity to ask successful judicial clerkship candidates everything you’d like to know about the clerkship application process. This meeting is for 2Ls and 3Ls only. No faculty or CSO staff members will be present.</p>
  <p>Pizza will be served. RSVP on <a>UT Law Symplicity</a> by Wednesday, April 18, by selecting the 'Events' tab.</p>\n\nIf you need an accommodation to participate in this event, please contact the event sponsor or the Texas Law Special Events Office at specialevents@law.utexas.edu no later than seven business days prior to the event.
X-ALT-DESC;FMTTYPE=text/html:<p>Don’t miss this opportunity to ask successful judicial clerkship candidates everything you’d like to know about the clerkship application process. This meeting is for 2Ls and 3Ls only. No faculty or CSO staff members will be present.</p>
  <p>Pizza will be served. RSVP on <a>UT Law Symplicity</a> by Wednesday, April 18, by selecting the 'Events' tab.</p><p>If you need an accommodation to participate in this event, please contact the event
                                          event sponsor or the Texas Law Special Events Office at <a href="mailto:specialevents@law.utexas.edu">specialevents@law.utexas.edu</a> no later than seven business days prior to the event.</p>
CATEGORIES:Meeting
LOCATION:Career Services Interview Suite (TNH 3.122)
URL:http://law.utexas.edu/calendar/2012/04/19/13599/
CLASS:PUBLIC
STATUS:CONFIRMED
COMMENT:Please contact Remi Ratliff, Director of Judicial Programs, at 512-232-1163 or <a href="mailto:rrattliff@law.utexas.edu">rratliff@law.utexas.edu</a>.
END:VEVENT
END:VCALENDAR