BEGIN:VCALENDAR
VERSION:2.0
PRODID:-//UNIVERSITY OF TEXAS SCHOOL OF LAW//NONSGML Events Calendar v1.0//EN
X-WR-TIMEZONE:America/Chicago
BEGIN:VTIMEZONE
TZID:US/Central
X-LIC-LOCATION:America/Chicago
BEGIN:DAYLIGHT
TZOFFSETFROM:-0600
TZOFFSETTO:-0500
TZNAME:CDT
DTSTART:19700308T020000
RRULE:FREQ=YEARLY;BYMONTH=3;BYDAY=2SU
END:DAYLIGHT
BEGIN:STANDARD
TZOFFSETFROM:-0500
TZOFFSETTO:-0600
TZNAME:CST
DTSTART:19701101T020000
RRULE:FREQ=YEARLY;BYMONTH=11;BYDAY=1SU
END:STANDARD
END:VTIMEZONE
BEGIN:VEVENT
DTSTART;TZID=US/Central:20120423T140000
DTEND;VALUE=DATE-TIME;TZID=US/Central:20120423T180000

DTSTAMP:20260423T150000Z
CREATED:20110929T202700Z
LAST-MODIFIED:20120307T185100Z
UID:20120423T140000-12689@law.utexas.edu
SUMMARY:Hutcheson Moot Court
DESCRIPTION:<p>The Thad T. Hutcheson Moot Court Competition is an optional, 64-person moot court competition for 1Ls at the UT Law School</p>\n\nIf you need an accommodation to participate in this event, please contact the event sponsor or the Texas Law Special Events Office at specialevents@law.utexas.edu no later than seven business days prior to the event.
X-ALT-DESC;FMTTYPE=text/html:<p>The Thad T. Hutcheson Moot Court Competition is an optional, 64-person moot court competition for 1Ls at the UT Law School</p><p>If you need an accommodation to participate in this event, please contact the event
                                          event sponsor or the Texas Law Special Events Office at <a href="mailto:specialevents@law.utexas.edu">specialevents@law.utexas.edu</a> no later than seven business days prior to the event.</p>

LOCATION:CCJ 2.300 - Jamail Pavilion
URL:http://law.utexas.edu/calendar/2012/04/23/12689/
CLASS:PUBLIC
STATUS:CONFIRMED

END:VEVENT
END:VCALENDAR