BEGIN:VCALENDAR
VERSION:2.0
PRODID:-//UNIVERSITY OF TEXAS SCHOOL OF LAW//NONSGML Events Calendar v1.0//EN
X-WR-TIMEZONE:America/Chicago
BEGIN:VTIMEZONE
TZID:US/Central
X-LIC-LOCATION:America/Chicago
BEGIN:DAYLIGHT
TZOFFSETFROM:-0600
TZOFFSETTO:-0500
TZNAME:CDT
DTSTART:19700308T020000
RRULE:FREQ=YEARLY;BYMONTH=3;BYDAY=2SU
END:DAYLIGHT
BEGIN:STANDARD
TZOFFSETFROM:-0500
TZOFFSETTO:-0600
TZNAME:CST
DTSTART:19701101T020000
RRULE:FREQ=YEARLY;BYMONTH=11;BYDAY=1SU
END:STANDARD
END:VTIMEZONE
BEGIN:VEVENT
DTSTART;TZID=US/Central:20120423T153000
DTEND;VALUE=DATE-TIME;TZID=US/Central:20120423T170000

DTSTAMP:20260423T122000Z
CREATED:20120131T184000Z
LAST-MODIFIED:20120131T184000Z
UID:20120423T153000-13669@law.utexas.edu
SUMMARY:Justice Center Ice Cream Social
DESCRIPTION:<p>End of year reception recognizing the Justice Center Graduating Student Award winners, Class of 2012 post-graduate fellowship recipients, students who have performed pro bono service, and the 2012 Whitehurst Public Interest Summer Fellows, and celebrating the law school's culture of using the law to serve others, with Amy's Ice Cream for all.</p>\n\nIf you need an accommodation to participate in this event, please contact the event sponsor or the Texas Law Special Events Office at specialevents@law.utexas.edu no later than seven business days prior to the event.
X-ALT-DESC;FMTTYPE=text/html:<p>End of year reception recognizing the Justice Center Graduating Student Award winners, Class of 2012 post-graduate fellowship recipients, students who have performed pro bono service, and the 2012 Whitehurst Public Interest Summer Fellows, and celebrating the law school's culture of using the law to serve others, with Amy's Ice Cream for all.</p><p>If you need an accommodation to participate in this event, please contact the event
                                          event sponsor or the Texas Law Special Events Office at <a href="mailto:specialevents@law.utexas.edu">specialevents@law.utexas.edu</a> no later than seven business days prior to the event.</p>
CATEGORIES:Other
LOCATION:TNH 2.111 - Sheffield-Massey Room
URL:http://law.utexas.edu/calendar/2012/04/23/13669/
CLASS:PUBLIC
STATUS:CONFIRMED

END:VEVENT
END:VCALENDAR