BEGIN:VCALENDAR
VERSION:2.0
PRODID:-//UNIVERSITY OF TEXAS SCHOOL OF LAW//NONSGML Events Calendar v1.0//EN
X-WR-TIMEZONE:America/Chicago
BEGIN:VTIMEZONE
TZID:US/Central
X-LIC-LOCATION:America/Chicago
BEGIN:DAYLIGHT
TZOFFSETFROM:-0600
TZOFFSETTO:-0500
TZNAME:CDT
DTSTART:19700308T020000
RRULE:FREQ=YEARLY;BYMONTH=3;BYDAY=2SU
END:DAYLIGHT
BEGIN:STANDARD
TZOFFSETFROM:-0500
TZOFFSETTO:-0600
TZNAME:CST
DTSTART:19701101T020000
RRULE:FREQ=YEARLY;BYMONTH=11;BYDAY=1SU
END:STANDARD
END:VTIMEZONE
BEGIN:VEVENT
DTSTART;TZID=US/Central:20120425T153000
DTEND;VALUE=DATE-TIME;TZID=US/Central:20120425T163000

DTSTAMP:20260423T122000Z
CREATED:20120319T203500Z
LAST-MODIFIED:20120319T203500Z
UID:20120425T153000-14121@law.utexas.edu
SUMMARY:1L Skills Session: UCC w/ Prof. Sokolow
DESCRIPTION:<p>Professor Sokolow will present a session entitled “Legal Analysis: Remedies Under the UCC” for 1Ls currently taking Contracts and working with the UCC. The session is a great explanation of remedies and how to analyze problems; students in the past have found the session incredibly helpful.</p>\n\nIf you need an accommodation to participate in this event, please contact the event sponsor or the Texas Law Special Events Office at specialevents@law.utexas.edu no later than seven business days prior to the event.
X-ALT-DESC;FMTTYPE=text/html:<p>Professor Sokolow will present a session entitled “Legal Analysis: Remedies Under the UCC” for 1Ls currently taking Contracts and working with the UCC. The session is a great explanation of remedies and how to analyze problems; students in the past have found the session incredibly helpful.</p><p>If you need an accommodation to participate in this event, please contact the event
                                          event sponsor or the Texas Law Special Events Office at <a href="mailto:specialevents@law.utexas.edu">specialevents@law.utexas.edu</a> no later than seven business days prior to the event.</p>
CATEGORIES:Workshop / Training Program
LOCATION:TNH 2.140 - Wright Classroom
URL:http://law.utexas.edu/calendar/2012/04/25/14121/
CLASS:PUBLIC
STATUS:CONFIRMED

END:VEVENT
END:VCALENDAR