BEGIN:VCALENDAR
VERSION:2.0
PRODID:-//UNIVERSITY OF TEXAS SCHOOL OF LAW//NONSGML Events Calendar v1.0//EN
X-WR-TIMEZONE:America/Chicago
BEGIN:VTIMEZONE
TZID:US/Central
X-LIC-LOCATION:America/Chicago
BEGIN:DAYLIGHT
TZOFFSETFROM:-0600
TZOFFSETTO:-0500
TZNAME:CDT
DTSTART:19700308T020000
RRULE:FREQ=YEARLY;BYMONTH=3;BYDAY=2SU
END:DAYLIGHT
BEGIN:STANDARD
TZOFFSETFROM:-0500
TZOFFSETTO:-0600
TZNAME:CST
DTSTART:19701101T020000
RRULE:FREQ=YEARLY;BYMONTH=11;BYDAY=1SU
END:STANDARD
END:VTIMEZONE
BEGIN:VEVENT
DTSTART;TZID=US/Central:20120427
DTEND;TZID=US/Central:20120428
X-MICROSOFT-CDO-ALLDAYEVENT:TRUE
X-FUNAMBOL-ALLDAY:TRUE
DTSTAMP:20260423T151700Z
CREATED:20120410T213700Z
LAST-MODIFIED:20120410T213700Z
UID:20120427T083000-14281@law.utexas.edu
SUMMARY:Annual Dispute Resolution Symposium
DESCRIPTION:<p>12th Annual Dispute Resolution Symposium features student presentations and as keynote speaker: John Sugden,Professor Sociology of Sport, University of Brighton's Chelsea School of Sport and Director of Football for Peace International, who will present on "Sport, Conflict Resolution and Peace Building in deeply Divided Societies: between Idealism and Fatalism" at 11:00 a.m. in the Eidman Courtroom. </p>\n\nIf you need an accommodation to participate in this event, please contact the event sponsor or the Texas Law Special Events Office at specialevents@law.utexas.edu no later than seven business days prior to the event.
X-ALT-DESC;FMTTYPE=text/html:<p>12th Annual Dispute Resolution Symposium features student presentations and as keynote speaker: John Sugden,Professor Sociology of Sport, University of Brighton's Chelsea School of Sport and Director of Football for Peace International, who will present on "Sport, Conflict Resolution and Peace Building in deeply Divided Societies: between Idealism and Fatalism" at 11:00 a.m. in the Eidman Courtroom. </p><p>If you need an accommodation to participate in this event, please contact the event
                                          event sponsor or the Texas Law Special Events Office at <a href="mailto:specialevents@law.utexas.edu">specialevents@law.utexas.edu</a> no later than seven business days prior to the event.</p>
CATEGORIES:Symposium
LOCATION:CCJ 2.306 - Eidman Courtroom
URL:http://law.utexas.edu/calendar/2012/04/27/14281/
CLASS:PUBLIC
STATUS:CONFIRMED

END:VEVENT
END:VCALENDAR