BEGIN:VCALENDAR
VERSION:2.0
PRODID:-//UNIVERSITY OF TEXAS SCHOOL OF LAW//NONSGML Events Calendar v1.0//EN
X-WR-TIMEZONE:America/Chicago
BEGIN:VTIMEZONE
TZID:US/Central
X-LIC-LOCATION:America/Chicago
BEGIN:DAYLIGHT
TZOFFSETFROM:-0600
TZOFFSETTO:-0500
TZNAME:CDT
DTSTART:19700308T020000
RRULE:FREQ=YEARLY;BYMONTH=3;BYDAY=2SU
END:DAYLIGHT
BEGIN:STANDARD
TZOFFSETFROM:-0500
TZOFFSETTO:-0600
TZNAME:CST
DTSTART:19701101T020000
RRULE:FREQ=YEARLY;BYMONTH=11;BYDAY=1SU
END:STANDARD
END:VTIMEZONE
BEGIN:VEVENT
DTSTART;TZID=US/Central:20120530
DTEND;TZID=US/Central:20120531
X-MICROSOFT-CDO-ALLDAYEVENT:TRUE
X-FUNAMBOL-ALLDAY:TRUE
DTSTAMP:20260423T080200Z
CREATED:20111216T195200Z
LAST-MODIFIED:20111216T195200Z
UID:20120530T000000-13290@law.utexas.edu
SUMMARY:Summer 2012 Registration
DESCRIPTION:<p>Summer 2012 registration for all students not yet registered, including visiting students. Tuition due by 5:00 p.m. on June 1st. Check posted schedule or your Registration Information Sheet for ROSE access periods.</p>\n\nIf you need an accommodation to participate in this event, please contact the event sponsor or the Texas Law Special Events Office at specialevents@law.utexas.edu no later than seven business days prior to the event.
X-ALT-DESC;FMTTYPE=text/html:<p>Summer 2012 registration for all students not yet registered, including visiting students. Tuition due by 5:00 p.m. on June 1st. Check posted schedule or your Registration Information Sheet for ROSE access periods.</p><p>If you need an accommodation to participate in this event, please contact the event
                                          event sponsor or the Texas Law Special Events Office at <a href="mailto:specialevents@law.utexas.edu">specialevents@law.utexas.edu</a> no later than seven business days prior to the event.</p>


URL:http://law.utexas.edu/calendar/2012/05/30/13290/
CLASS:PUBLIC
STATUS:CONFIRMED

END:VEVENT
END:VCALENDAR