BEGIN:VCALENDAR
VERSION:2.0
PRODID:-//UNIVERSITY OF TEXAS SCHOOL OF LAW//NONSGML Events Calendar v1.0//EN
X-WR-TIMEZONE:America/Chicago
BEGIN:VTIMEZONE
TZID:US/Central
X-LIC-LOCATION:America/Chicago
BEGIN:DAYLIGHT
TZOFFSETFROM:-0600
TZOFFSETTO:-0500
TZNAME:CDT
DTSTART:19700308T020000
RRULE:FREQ=YEARLY;BYMONTH=3;BYDAY=2SU
END:DAYLIGHT
BEGIN:STANDARD
TZOFFSETFROM:-0500
TZOFFSETTO:-0600
TZNAME:CST
DTSTART:19701101T020000
RRULE:FREQ=YEARLY;BYMONTH=11;BYDAY=1SU
END:STANDARD
END:VTIMEZONE
BEGIN:VEVENT
DTSTART;TZID=US/Central:20120701T110000


DTSTAMP:20260423T080200Z
CREATED:20120521T164800Z
LAST-MODIFIED:20120521T164800Z
UID:20120701T110000-14458@law.utexas.edu
SUMMARY:Miami RP - Apply at 11 am
DESCRIPTION:<p>The <a href="https://www.utexas.edu/law/career/TLC/miami_students.html">Miami Off-Campus Recruitment Program</a> will be held at the <a href="http://embassysuites1.hilton.com/en_US/es/hotel/MIASPES-Embassy-Suites-Miami-International-Airport-Florida/index.do">Embassy Suites Miami International Airport</a>.  Students may apply at any time during the online application period, which takes place July 1-16, 2012 via <a href="https://law-consortia1-csm.symplicity.com/students">The Law Consortium Symplicity</a>.</p>
  <p>Please note that The George Washington University Law School is the coordinating law school that oversees all scheduling and logistics of this program.</p>\n\nIf you need an accommodation to participate in this event, please contact the event sponsor or the Texas Law Special Events Office at specialevents@law.utexas.edu no later than seven business days prior to the event.
X-ALT-DESC;FMTTYPE=text/html:<p>The <a href="https://www.utexas.edu/law/career/TLC/miami_students.html">Miami Off-Campus Recruitment Program</a> will be held at the <a href="http://embassysuites1.hilton.com/en_US/es/hotel/MIASPES-Embassy-Suites-Miami-International-Airport-Florida/index.do">Embassy Suites Miami International Airport</a>.  Students may apply at any time during the online application period, which takes place July 1-16, 2012 via <a href="https://law-consortia1-csm.symplicity.com/students">The Law Consortium Symplicity</a>.</p>
  <p>Please note that The George Washington University Law School is the coordinating law school that oversees all scheduling and logistics of this program.</p><p>If you need an accommodation to participate in this event, please contact the event
                                          event sponsor or the Texas Law Special Events Office at <a href="mailto:specialevents@law.utexas.edu">specialevents@law.utexas.edu</a> no later than seven business days prior to the event.</p>
CATEGORIES:Interview Program
LOCATION:Embassy Suites Miami International Airport
URL:http://law.utexas.edu/calendar/2012/07/01/14458/
CLASS:PUBLIC
STATUS:CONFIRMED
COMMENT:Please contact Sandra Puga, Job Fair Coordinator, at 512-232-1161 or <a href="mailto:spuga@law.utexas.edu">spuga@law.utexas.edu</a>.
END:VEVENT
END:VCALENDAR