BEGIN:VCALENDAR
VERSION:2.0
PRODID:-//UNIVERSITY OF TEXAS SCHOOL OF LAW//NONSGML Events Calendar v1.0//EN
X-WR-TIMEZONE:America/Chicago
BEGIN:VTIMEZONE
TZID:US/Central
X-LIC-LOCATION:America/Chicago
BEGIN:DAYLIGHT
TZOFFSETFROM:-0600
TZOFFSETTO:-0500
TZNAME:CDT
DTSTART:19700308T020000
RRULE:FREQ=YEARLY;BYMONTH=3;BYDAY=2SU
END:DAYLIGHT
BEGIN:STANDARD
TZOFFSETFROM:-0500
TZOFFSETTO:-0600
TZNAME:CST
DTSTART:19701101T020000
RRULE:FREQ=YEARLY;BYMONTH=11;BYDAY=1SU
END:STANDARD
END:VTIMEZONE
BEGIN:VEVENT
DTSTART;TZID=US/Central:20120706
DTEND;TZID=US/Central:20120707
X-MICROSOFT-CDO-ALLDAYEVENT:TRUE
X-FUNAMBOL-ALLDAY:TRUE
DTSTAMP:20260423T080200Z
CREATED:20111216T201800Z
LAST-MODIFIED:20111216T201800Z
UID:20120706T000000-13301@law.utexas.edu
SUMMARY:1st-term 3-hr Finals. 2nd-term Registrat
DESCRIPTION:<p>Final exams for first-term three-hour courses. </p>
  <p>9-week and whole-session courses do not meet. </p>
  <p>Registration for students who attend the second-term only. Add/drop for students already registered and paid. Tuition due by 5:00 p.m. July 10th.</p>\n\nIf you need an accommodation to participate in this event, please contact the event sponsor or the Texas Law Special Events Office at specialevents@law.utexas.edu no later than seven business days prior to the event.
X-ALT-DESC;FMTTYPE=text/html:<p>Final exams for first-term three-hour courses. </p>
  <p>9-week and whole-session courses do not meet. </p>
  <p>Registration for students who attend the second-term only. Add/drop for students already registered and paid. Tuition due by 5:00 p.m. July 10th.</p><p>If you need an accommodation to participate in this event, please contact the event
                                          event sponsor or the Texas Law Special Events Office at <a href="mailto:specialevents@law.utexas.edu">specialevents@law.utexas.edu</a> no later than seven business days prior to the event.</p>


URL:http://law.utexas.edu/calendar/2012/07/06/13301/
CLASS:PUBLIC
STATUS:CONFIRMED

END:VEVENT
END:VCALENDAR