BEGIN:VCALENDAR
VERSION:2.0
PRODID:-//UNIVERSITY OF TEXAS SCHOOL OF LAW//NONSGML Events Calendar v1.0//EN
X-WR-TIMEZONE:America/Chicago
BEGIN:VTIMEZONE
TZID:US/Central
X-LIC-LOCATION:America/Chicago
BEGIN:DAYLIGHT
TZOFFSETFROM:-0600
TZOFFSETTO:-0500
TZNAME:CDT
DTSTART:19700308T020000
RRULE:FREQ=YEARLY;BYMONTH=3;BYDAY=2SU
END:DAYLIGHT
BEGIN:STANDARD
TZOFFSETFROM:-0500
TZOFFSETTO:-0600
TZNAME:CST
DTSTART:19701101T020000
RRULE:FREQ=YEARLY;BYMONTH=11;BYDAY=1SU
END:STANDARD
END:VTIMEZONE
BEGIN:VEVENT
DTSTART;TZID=US/Central:20120713T083000
DTEND;VALUE=DATE-TIME;TZID=US/Central:20120713T124500

DTSTAMP:20260423T080100Z
CREATED:20120605T175700Z
LAST-MODIFIED:20120605T175700Z
UID:20120713T083000-14513@law.utexas.edu
SUMMARY:LLCs, LPs and Partnerships
DESCRIPTION:<p>Join leading business lawyers and academics at LLCs, LPs and Partnerships. The program provides great forms, model agreements, coverage of best practices for key clauses and provisions, and analyzes issues faced by practitioners. </p>
  <p>View program and register online at www.utcle.org/conferences/PA12</p>\n\nIf you need an accommodation to participate in this event, please contact the event sponsor or the Texas Law Special Events Office at specialevents@law.utexas.edu no later than seven business days prior to the event.
X-ALT-DESC;FMTTYPE=text/html:<p>Join leading business lawyers and academics at LLCs, LPs and Partnerships. The program provides great forms, model agreements, coverage of best practices for key clauses and provisions, and analyzes issues faced by practitioners. </p>
  <p>View program and register online at www.utcle.org/conferences/PA12</p><p>If you need an accommodation to participate in this event, please contact the event
                                          event sponsor or the Texas Law Special Events Office at <a href="mailto:specialevents@law.utexas.edu">specialevents@law.utexas.edu</a> no later than seven business days prior to the event.</p>
CATEGORIES:Other
LOCATION:Four Seasons Hotel Austin
URL:http://law.utexas.edu/calendar/2012/07/13/14513/
CLASS:PUBLIC
STATUS:CONFIRMED
COMMENT:www.utcle.org/conferences/PA12
END:VEVENT
END:VCALENDAR