BEGIN:VCALENDAR
VERSION:2.0
PRODID:-//UNIVERSITY OF TEXAS SCHOOL OF LAW//NONSGML Events Calendar v1.0//EN
X-WR-TIMEZONE:America/Chicago
BEGIN:VTIMEZONE
TZID:US/Central
X-LIC-LOCATION:America/Chicago
BEGIN:DAYLIGHT
TZOFFSETFROM:-0600
TZOFFSETTO:-0500
TZNAME:CDT
DTSTART:19700308T020000
RRULE:FREQ=YEARLY;BYMONTH=3;BYDAY=2SU
END:DAYLIGHT
BEGIN:STANDARD
TZOFFSETFROM:-0500
TZOFFSETTO:-0600
TZNAME:CST
DTSTART:19701101T020000
RRULE:FREQ=YEARLY;BYMONTH=11;BYDAY=1SU
END:STANDARD
END:VTIMEZONE
BEGIN:VEVENT
DTSTART;TZID=US/Central:20120716T110000
DTEND;TZID=US/Central:20120716T110000

DTSTAMP:20260423T080200Z
CREATED:20120521T162300Z
LAST-MODIFIED:20120521T162300Z
UID:20120716T000000-14455@law.utexas.edu
SUMMARY:Chicago Walk-Around RP - Apply by 11 am
DESCRIPTION:<p>The <a href="https://www.utexas.edu/law/career/TLC/chicago_students.html">Chicago Walk-Around Recruitment Program</a> online application period closes at 11:00 a.m. (Central) via <a href="https://law-consortia1-csm.symplicity.com/students">The Law Consortium Symplicity</a>.</p>
  <p>Please note that Boston University School of Law is the coordinating law school that oversees all scheduling and logistics of this program.</p>\n\nIf you need an accommodation to participate in this event, please contact the event sponsor or the Texas Law Special Events Office at specialevents@law.utexas.edu no later than seven business days prior to the event.
X-ALT-DESC;FMTTYPE=text/html:<p>The <a href="https://www.utexas.edu/law/career/TLC/chicago_students.html">Chicago Walk-Around Recruitment Program</a> online application period closes at 11:00 a.m. (Central) via <a href="https://law-consortia1-csm.symplicity.com/students">The Law Consortium Symplicity</a>.</p>
  <p>Please note that Boston University School of Law is the coordinating law school that oversees all scheduling and logistics of this program.</p><p>If you need an accommodation to participate in this event, please contact the event
                                          event sponsor or the Texas Law Special Events Office at <a href="mailto:specialevents@law.utexas.edu">specialevents@law.utexas.edu</a> no later than seven business days prior to the event.</p>

LOCATION:Participating employers' offices in Chicago
URL:http://law.utexas.edu/calendar/2012/07/16/14455/
CLASS:PUBLIC
STATUS:CONFIRMED
COMMENT:Please contact Sandra Puga, Job Fair Coordinator, at 512-232-1161 or <a href="mailto:spuga@law.utexas.edu">spuga@law.utexas.edu</a>.
END:VEVENT
END:VCALENDAR