BEGIN:VCALENDAR
VERSION:2.0
PRODID:-//UNIVERSITY OF TEXAS SCHOOL OF LAW//NONSGML Events Calendar v1.0//EN
X-WR-TIMEZONE:America/Chicago
BEGIN:VTIMEZONE
TZID:US/Central
X-LIC-LOCATION:America/Chicago
BEGIN:DAYLIGHT
TZOFFSETFROM:-0600
TZOFFSETTO:-0500
TZNAME:CDT
DTSTART:19700308T020000
RRULE:FREQ=YEARLY;BYMONTH=3;BYDAY=2SU
END:DAYLIGHT
BEGIN:STANDARD
TZOFFSETFROM:-0500
TZOFFSETTO:-0600
TZNAME:CST
DTSTART:19701101T020000
RRULE:FREQ=YEARLY;BYMONTH=11;BYDAY=1SU
END:STANDARD
END:VTIMEZONE
BEGIN:VEVENT
DTSTART;TZID=US/Central:20120720T120000
DTEND;TZID=US/Central:20120720T120000

DTSTAMP:20260423T105800Z
CREATED:20110622T163900Z
LAST-MODIFIED:20120518T150500Z
UID:20120720T000000-12027@law.utexas.edu
SUMMARY:Fall OCI:  Application Period Closes
DESCRIPTION:<p>Rising second- and third-year students and alumni up to one year after graduation are eligible to participate in <a title="Fall On-Campus Interviews" href="https://www.utexas.edu/law/career/oci/index.html">Fall On-Campus Interviews</a>  per employer requests. Online application period ends today at noon (Central).</p>\n\nIf you need an accommodation to participate in this event, please contact the event sponsor or the Texas Law Special Events Office at specialevents@law.utexas.edu no later than seven business days prior to the event.
X-ALT-DESC;FMTTYPE=text/html:<p>Rising second- and third-year students and alumni up to one year after graduation are eligible to participate in <a title="Fall On-Campus Interviews" href="https://www.utexas.edu/law/career/oci/index.html">Fall On-Campus Interviews</a>  per employer requests. Online application period ends today at noon (Central).</p><p>If you need an accommodation to participate in this event, please contact the event
                                          event sponsor or the Texas Law Special Events Office at <a href="mailto:specialevents@law.utexas.edu">specialevents@law.utexas.edu</a> no later than seven business days prior to the event.</p>
CATEGORIES:Interview Program

URL:http://law.utexas.edu/calendar/2012/07/20/12027/
CLASS:PUBLIC
STATUS:CONFIRMED
COMMENT:Please contact Drew Carls, On-Campus Interview Coordinator, at 512-232-7110 or <a href="mailto:dcarls@law.utexas.edu">dcarls@law.utexas.edu</a>.
END:VEVENT
END:VCALENDAR