BEGIN:VCALENDAR
VERSION:2.0
PRODID:-//UNIVERSITY OF TEXAS SCHOOL OF LAW//NONSGML Events Calendar v1.0//EN
X-WR-TIMEZONE:America/Chicago
BEGIN:VTIMEZONE
TZID:US/Central
X-LIC-LOCATION:America/Chicago
BEGIN:DAYLIGHT
TZOFFSETFROM:-0600
TZOFFSETTO:-0500
TZNAME:CDT
DTSTART:19700308T020000
RRULE:FREQ=YEARLY;BYMONTH=3;BYDAY=2SU
END:DAYLIGHT
BEGIN:STANDARD
TZOFFSETFROM:-0500
TZOFFSETTO:-0600
TZNAME:CST
DTSTART:19701101T020000
RRULE:FREQ=YEARLY;BYMONTH=11;BYDAY=1SU
END:STANDARD
END:VTIMEZONE
BEGIN:VEVENT
DTSTART;TZID=US/Central:20120726T120000
DTEND;VALUE=DATE-TIME;TZID=US/Central:20120726T133000

DTSTAMP:20260423T064000Z
CREATED:20120611T185800Z
LAST-MODIFIED:20120710T202200Z
UID:20120726T120000-14552@law.utexas.edu
SUMMARY:El Paso Alumni Luncheon
DESCRIPTION:<p>The Law School is hosting a luncheon for all El Paso area alumni on Thursday, July 26, 12:00 noon: </p>
  <p>The DoubleTree by Hilton Hotel
  Downtown City Center
  Salon 2, 17th Floor
  600 N. El Paso Street
  El Paso, Texas
  </p>\n\nIf you need an accommodation to participate in this event, please contact the event sponsor or the Texas Law Special Events Office at specialevents@law.utexas.edu no later than seven business days prior to the event.
X-ALT-DESC;FMTTYPE=text/html:<p>The Law School is hosting a luncheon for all El Paso area alumni on Thursday, July 26, 12:00 noon: </p>
  <p>The DoubleTree by Hilton Hotel
  Downtown City Center
  Salon 2, 17th Floor
  600 N. El Paso Street
  El Paso, Texas
  </p><p>If you need an accommodation to participate in this event, please contact the event
                                          event sponsor or the Texas Law Special Events Office at <a href="mailto:specialevents@law.utexas.edu">specialevents@law.utexas.edu</a> no later than seven business days prior to the event.</p>


URL:http://law.utexas.edu/calendar/2012/07/26/14552/
CLASS:PUBLIC
STATUS:CONFIRMED

END:VEVENT
END:VCALENDAR