BEGIN:VCALENDAR
VERSION:2.0
PRODID:-//UNIVERSITY OF TEXAS SCHOOL OF LAW//NONSGML Events Calendar v1.0//EN
X-WR-TIMEZONE:America/Chicago
BEGIN:VTIMEZONE
TZID:US/Central
X-LIC-LOCATION:America/Chicago
BEGIN:DAYLIGHT
TZOFFSETFROM:-0600
TZOFFSETTO:-0500
TZNAME:CDT
DTSTART:19700308T020000
RRULE:FREQ=YEARLY;BYMONTH=3;BYDAY=2SU
END:DAYLIGHT
BEGIN:STANDARD
TZOFFSETFROM:-0500
TZOFFSETTO:-0600
TZNAME:CST
DTSTART:19701101T020000
RRULE:FREQ=YEARLY;BYMONTH=11;BYDAY=1SU
END:STANDARD
END:VTIMEZONE
BEGIN:VEVENT
DTSTART;TZID=US/Central:20120917T170000
DTEND;VALUE=DATE-TIME;TZID=US/Central:20120917T173000

DTSTAMP:20260423T040600Z
CREATED:20120912T165500Z
LAST-MODIFIED:20120912T165500Z
UID:20120917T170000-15037@law.utexas.edu
SUMMARY:Novice Mock Trial Mandatory Meeting
DESCRIPTION:<p>The Board of Advocates is hosting a mandatory informative meeting at 5PM on Monday, September 17 in the Jeffers Courtroom to go over the rules for the Gardere Novice Mock Trial Tournament, which will commence on October 2. </p>\n\nIf you need an accommodation to participate in this event, please contact the event sponsor or the Texas Law Special Events Office at specialevents@law.utexas.edu no later than seven business days prior to the event.
X-ALT-DESC;FMTTYPE=text/html:<p>The Board of Advocates is hosting a mandatory informative meeting at 5PM on Monday, September 17 in the Jeffers Courtroom to go over the rules for the Gardere Novice Mock Trial Tournament, which will commence on October 2. </p><p>If you need an accommodation to participate in this event, please contact the event
                                          event sponsor or the Texas Law Special Events Office at <a href="mailto:specialevents@law.utexas.edu">specialevents@law.utexas.edu</a> no later than seven business days prior to the event.</p>

LOCATION:TNH 3.140 - Jeffers Courtroom
URL:http://law.utexas.edu/calendar/2012/09/17/15037/
CLASS:PUBLIC
STATUS:CONFIRMED

END:VEVENT
END:VCALENDAR