BEGIN:VCALENDAR
VERSION:2.0
PRODID:-//UNIVERSITY OF TEXAS SCHOOL OF LAW//NONSGML Events Calendar v1.0//EN
X-WR-TIMEZONE:America/Chicago
BEGIN:VTIMEZONE
TZID:US/Central
X-LIC-LOCATION:America/Chicago
BEGIN:DAYLIGHT
TZOFFSETFROM:-0600
TZOFFSETTO:-0500
TZNAME:CDT
DTSTART:19700308T020000
RRULE:FREQ=YEARLY;BYMONTH=3;BYDAY=2SU
END:DAYLIGHT
BEGIN:STANDARD
TZOFFSETFROM:-0500
TZOFFSETTO:-0600
TZNAME:CST
DTSTART:19701101T020000
RRULE:FREQ=YEARLY;BYMONTH=11;BYDAY=1SU
END:STANDARD
END:VTIMEZONE
BEGIN:VEVENT
DTSTART;TZID=US/Central:20120918T170000
DTEND;TZID=US/Central:20120918T170000

DTSTAMP:20260423T040700Z
CREATED:20120518T203600Z
LAST-MODIFIED:20120518T203600Z
UID:20120918T000000-14449@law.utexas.edu
SUMMARY:CANCELED: Public Defender Corps - Appl. Deadline
DESCRIPTION:<p>p&gt;<strong></strong><a title="Equal Justice Works" href="http://www.equaljusticeworks.org">Equal Justice Works</a> and the <a title="Southern Public Defender Training Center (SPDTC)" href="http://thespdtc.org/">Southern Public Defender Training Center (SPDTC)</a> have launched a new initiative to combat the growing problem of public defender offices being underfunded, understaffed and burdened with insurmountable caseloads.  Public Defender Corps will provide intensive training and mentoring to new attorneys with the goal of supporting the public defender community and raising the standard of representation across the country.</p>\n\nIf you need an accommodation to participate in this event, please contact the event sponsor or the Texas Law Special Events Office at specialevents@law.utexas.edu no later than seven business days prior to the event.
X-ALT-DESC;FMTTYPE=text/html:<p>p&gt;<strong></strong><a title="Equal Justice Works" href="http://www.equaljusticeworks.org">Equal Justice Works</a> and the <a title="Southern Public Defender Training Center (SPDTC)" href="http://thespdtc.org/">Southern Public Defender Training Center (SPDTC)</a> have launched a new initiative to combat the growing problem of public defender offices being underfunded, understaffed and burdened with insurmountable caseloads.  Public Defender Corps will provide intensive training and mentoring to new attorneys with the goal of supporting the public defender community and raising the standard of representation across the country.</p><p>If you need an accommodation to participate in this event, please contact the event
                                          event sponsor or the Texas Law Special Events Office at <a href="mailto:specialevents@law.utexas.edu">specialevents@law.utexas.edu</a> no later than seven business days prior to the event.</p>
CATEGORIES:Other

URL:http://law.utexas.edu/calendar/2012/09/18/14449/
CLASS:PUBLIC
STATUS:CANCELLED
COMMENT:Please contact Nicole Simmons, Public Interest Career Counselor, at 512-232-1160 or <a href="mailto:nsimmons@law.utexas.edu">nsimmons@law.utexas.edu</a>.
END:VEVENT
END:VCALENDAR