BEGIN:VCALENDAR
VERSION:2.0
PRODID:-//UNIVERSITY OF TEXAS SCHOOL OF LAW//NONSGML Events Calendar v1.0//EN
X-WR-TIMEZONE:America/Chicago
BEGIN:VTIMEZONE
TZID:US/Central
X-LIC-LOCATION:America/Chicago
BEGIN:DAYLIGHT
TZOFFSETFROM:-0600
TZOFFSETTO:-0500
TZNAME:CDT
DTSTART:19700308T020000
RRULE:FREQ=YEARLY;BYMONTH=3;BYDAY=2SU
END:DAYLIGHT
BEGIN:STANDARD
TZOFFSETFROM:-0500
TZOFFSETTO:-0600
TZNAME:CST
DTSTART:19701101T020000
RRULE:FREQ=YEARLY;BYMONTH=11;BYDAY=1SU
END:STANDARD
END:VTIMEZONE
BEGIN:VEVENT
DTSTART;TZID=US/Central:20120918T120000
DTEND;VALUE=DATE-TIME;TZID=US/Central:20120918T130000

DTSTAMP:20260423T040600Z
CREATED:20120906T234200Z
LAST-MODIFIED:20120906T234200Z
UID:20120918T120000-14982@law.utexas.edu
SUMMARY:ELS Speaker - Adam Abrams, TELC
DESCRIPTION:<p>ELS Speaker Series on Tuesday, September 18th at 12:00 pm in the Eidman Jury Room featuring Adam Abrams of the Texas Environmental Law Center. Mr. Abrams will talk about climate change litigation and the public trust doctrine. Lunch will be served.</p>
  <p>This past summer, Mr. Abrams successfully litigated one of the first cases in the nation to use the public trust doctrine to force state action on climate change. (Angela Bonser-Lain, et al. v Texas Commission on Environmental Quality, 
  Case No. D-1-GN-11-002194). The lawsuit is part of legal action in 49 states, the District of Columbia, and against the federal government on behalf of youth to compel reductions of CO2 emissions that will counter the negative impacts of climate change. The case relies upon the long established principle of the public trust doctrine, which requires all branches of government to protect and maintain certain shared resources fundamental for human health and survival.</p>
  <p>The Environmental Law Society is a social and professional student organization at the Law School that coordinates and brings together environmentally-minded students for educational, volunteer, career-oriented and social events. ELS provides students with networking events, an environmental job database, and its members' various experiences in order to assist fellow members in pursuing environmental career opportunities both during and after Law School. ELS also sponsors hiking and camping trips, happy hours, and speakers in an effort to provide a better Law School experience for its members.
  </p>\n\nIf you need an accommodation to participate in this event, please contact the event sponsor or the Texas Law Special Events Office at specialevents@law.utexas.edu no later than seven business days prior to the event.
X-ALT-DESC;FMTTYPE=text/html:<p>ELS Speaker Series on Tuesday, September 18th at 12:00 pm in the Eidman Jury Room featuring Adam Abrams of the Texas Environmental Law Center. Mr. Abrams will talk about climate change litigation and the public trust doctrine. Lunch will be served.</p>
  <p>This past summer, Mr. Abrams successfully litigated one of the first cases in the nation to use the public trust doctrine to force state action on climate change. (Angela Bonser-Lain, et al. v Texas Commission on Environmental Quality, 
  Case No. D-1-GN-11-002194). The lawsuit is part of legal action in 49 states, the District of Columbia, and against the federal government on behalf of youth to compel reductions of CO2 emissions that will counter the negative impacts of climate change. The case relies upon the long established principle of the public trust doctrine, which requires all branches of government to protect and maintain certain shared resources fundamental for human health and survival.</p>
  <p>The Environmental Law Society is a social and professional student organization at the Law School that coordinates and brings together environmentally-minded students for educational, volunteer, career-oriented and social events. ELS provides students with networking events, an environmental job database, and its members' various experiences in order to assist fellow members in pursuing environmental career opportunities both during and after Law School. ELS also sponsors hiking and camping trips, happy hours, and speakers in an effort to provide a better Law School experience for its members.
  </p><p>If you need an accommodation to participate in this event, please contact the event
                                          event sponsor or the Texas Law Special Events Office at <a href="mailto:specialevents@law.utexas.edu">specialevents@law.utexas.edu</a> no later than seven business days prior to the event.</p>
CATEGORIES:Panel Discussion / Speaker Series
LOCATION:CCJ 2.310 - Jury Room
URL:http://law.utexas.edu/calendar/2012/09/18/14982/
CLASS:PUBLIC
STATUS:CONFIRMED

END:VEVENT
END:VCALENDAR