BEGIN:VCALENDAR
VERSION:2.0
PRODID:-//UNIVERSITY OF TEXAS SCHOOL OF LAW//NONSGML Events Calendar v1.0//EN
X-WR-TIMEZONE:America/Chicago
BEGIN:VTIMEZONE
TZID:US/Central
X-LIC-LOCATION:America/Chicago
BEGIN:DAYLIGHT
TZOFFSETFROM:-0600
TZOFFSETTO:-0500
TZNAME:CDT
DTSTART:19700308T020000
RRULE:FREQ=YEARLY;BYMONTH=3;BYDAY=2SU
END:DAYLIGHT
BEGIN:STANDARD
TZOFFSETFROM:-0500
TZOFFSETTO:-0600
TZNAME:CST
DTSTART:19701101T020000
RRULE:FREQ=YEARLY;BYMONTH=11;BYDAY=1SU
END:STANDARD
END:VTIMEZONE
BEGIN:VEVENT
DTSTART;TZID=US/Central:20120918T141500
DTEND;VALUE=DATE-TIME;TZID=US/Central:20120918T150000

DTSTAMP:20260423T051600Z
CREATED:20120912T202900Z
LAST-MODIFIED:20120912T202900Z
UID:20120918T141500-15039@law.utexas.edu
SUMMARY:Mandatory Student Org Meeting
DESCRIPTION:<p>The Student Affairs Office is holding a mandatory student organization meeting at 2:15 on Tuesday, Sept 18 in the Auditorium. All UT Law student organizations must have representation at the meeting. We’ll go over events, accounting, rules for publicizing events and how to use the many resources available to you as student orgs.</p>\n\nIf you need an accommodation to participate in this event, please contact the event sponsor or the Texas Law Special Events Office at specialevents@law.utexas.edu no later than seven business days prior to the event.
X-ALT-DESC;FMTTYPE=text/html:<p>The Student Affairs Office is holding a mandatory student organization meeting at 2:15 on Tuesday, Sept 18 in the Auditorium. All UT Law student organizations must have representation at the meeting. We’ll go over events, accounting, rules for publicizing events and how to use the many resources available to you as student orgs.</p><p>If you need an accommodation to participate in this event, please contact the event
                                          event sponsor or the Texas Law Special Events Office at <a href="mailto:specialevents@law.utexas.edu">specialevents@law.utexas.edu</a> no later than seven business days prior to the event.</p>
CATEGORIES:Workshop / Training Program
LOCATION:TNH 2.114 - Francis Auditorium
URL:http://law.utexas.edu/calendar/2012/09/18/15039/
CLASS:PUBLIC
STATUS:CONFIRMED

END:VEVENT
END:VCALENDAR