BEGIN:VCALENDAR
VERSION:2.0
PRODID:-//UNIVERSITY OF TEXAS SCHOOL OF LAW//NONSGML Events Calendar v1.0//EN
X-WR-TIMEZONE:America/Chicago
BEGIN:VTIMEZONE
TZID:US/Central
X-LIC-LOCATION:America/Chicago
BEGIN:DAYLIGHT
TZOFFSETFROM:-0600
TZOFFSETTO:-0500
TZNAME:CDT
DTSTART:19700308T020000
RRULE:FREQ=YEARLY;BYMONTH=3;BYDAY=2SU
END:DAYLIGHT
BEGIN:STANDARD
TZOFFSETFROM:-0500
TZOFFSETTO:-0600
TZNAME:CST
DTSTART:19701101T020000
RRULE:FREQ=YEARLY;BYMONTH=11;BYDAY=1SU
END:STANDARD
END:VTIMEZONE
BEGIN:VEVENT
DTSTART;TZID=US/Central:20120918T140000
DTEND;VALUE=DATE-TIME;TZID=US/Central:20120918T153000

DTSTAMP:20260423T040600Z
CREATED:20120917T162600Z
LAST-MODIFIED:20120917T163000Z
UID:20120918T140000-15065@law.utexas.edu
SUMMARY:Webinar: Diverse Career Paths
DESCRIPTION:<p>In the midst of an economic downturn, thoughtful career planning is a must and more information is helpful in formulating a career plan. This panel will explore the career path and planning process for four successful attorneys. What prepared them for a career practicing intellectual property law? What was the role of networking in leading to their current position? What advice do they have for students and attorneys in building a career? How did they find success and fulfillment in the practice of law? These questions and others will be addressed by  Judge Paul Grewal, Magistrate Judge for the Northern District of California; Scott Herbst, partner with Finnegan Henderson; Erin Dunston, partner with Buchanan Ingersoll; and Stephanie Schonewald, associate with Steptoe &amp; Johnson. Presented by the Federal Circuit Bar Association (FCBA) committees for Diversity, and Law Clerks and Students.  </p>
  <p>Students may attend the webinar in the Jeffers Courtroom or register to watch on <a href="https://fedcirbar.webex.com">https://fedcirbar.webex.com</a> by clicking on the “Register” link next to “Diverse Career Paths”. Registration password is “CareerPaths12”.   </p>
  <p>RSVP by Monday, September 17, on <a title="UT Law Symplicity" href="https://law-utexas-csm.symplicity.com/students">UT Law Symplicity</a> by selecting the “Events” tab. If you are a 1L or LL.M., RSVP to Victor Garcia at <a href="mailto:vgarcia@law.utexas.edu">vgarcia@law.utexas.edu</a> with the subject line “RSVP to Diverse Career Paths”.</p>\n\nIf you need an accommodation to participate in this event, please contact the event sponsor or the Texas Law Special Events Office at specialevents@law.utexas.edu no later than seven business days prior to the event.
X-ALT-DESC;FMTTYPE=text/html:<p>In the midst of an economic downturn, thoughtful career planning is a must and more information is helpful in formulating a career plan. This panel will explore the career path and planning process for four successful attorneys. What prepared them for a career practicing intellectual property law? What was the role of networking in leading to their current position? What advice do they have for students and attorneys in building a career? How did they find success and fulfillment in the practice of law? These questions and others will be addressed by  Judge Paul Grewal, Magistrate Judge for the Northern District of California; Scott Herbst, partner with Finnegan Henderson; Erin Dunston, partner with Buchanan Ingersoll; and Stephanie Schonewald, associate with Steptoe &amp; Johnson. Presented by the Federal Circuit Bar Association (FCBA) committees for Diversity, and Law Clerks and Students.  </p>
  <p>Students may attend the webinar in the Jeffers Courtroom or register to watch on <a href="https://fedcirbar.webex.com">https://fedcirbar.webex.com</a> by clicking on the “Register” link next to “Diverse Career Paths”. Registration password is “CareerPaths12”.   </p>
  <p>RSVP by Monday, September 17, on <a title="UT Law Symplicity" href="https://law-utexas-csm.symplicity.com/students">UT Law Symplicity</a> by selecting the “Events” tab. If you are a 1L or LL.M., RSVP to Victor Garcia at <a href="mailto:vgarcia@law.utexas.edu">vgarcia@law.utexas.edu</a> with the subject line “RSVP to Diverse Career Paths”.</p><p>If you need an accommodation to participate in this event, please contact the event
                                          event sponsor or the Texas Law Special Events Office at <a href="mailto:specialevents@law.utexas.edu">specialevents@law.utexas.edu</a> no later than seven business days prior to the event.</p>
CATEGORIES:Panel Discussion / Speaker Series
LOCATION:TNH 3.140 - Jeffers Courtroom
URL:http://law.utexas.edu/calendar/2012/09/18/15065/
CLASS:PUBLIC
STATUS:CONFIRMED
COMMENT:Please contact Angelica Salinas Evans, Associate Director of Career Services, at <a href="mailto:aevans@law.utexas.edu">aevans@law.utexas.edu</a> in the CSO.
END:VEVENT
END:VCALENDAR