BEGIN:VCALENDAR
VERSION:2.0
PRODID:-//UNIVERSITY OF TEXAS SCHOOL OF LAW//NONSGML Events Calendar v1.0//EN
X-WR-TIMEZONE:America/Chicago
BEGIN:VTIMEZONE
TZID:US/Central
X-LIC-LOCATION:America/Chicago
BEGIN:DAYLIGHT
TZOFFSETFROM:-0600
TZOFFSETTO:-0500
TZNAME:CDT
DTSTART:19700308T020000
RRULE:FREQ=YEARLY;BYMONTH=3;BYDAY=2SU
END:DAYLIGHT
BEGIN:STANDARD
TZOFFSETFROM:-0500
TZOFFSETTO:-0600
TZNAME:CST
DTSTART:19701101T020000
RRULE:FREQ=YEARLY;BYMONTH=11;BYDAY=1SU
END:STANDARD
END:VTIMEZONE
BEGIN:VEVENT
DTSTART;TZID=US/Central:20120919T180000
DTEND;VALUE=DATE-TIME;TZID=US/Central:20120919T190000

DTSTAMP:20260423T040600Z
CREATED:20120915T201500Z
LAST-MODIFIED:20120915T201500Z
UID:20120919T180000-15050@law.utexas.edu
SUMMARY:WLC Meeting
DESCRIPTION:<p>The Women's Law Caucus' first meeting of the year is on Wednesday, September 19th at 6pm in TNH 2.138. </p>
  <p>Come sign-up for events and learn about what WLC is doing this semester and year.  Pizza will be served.  </p>
  <p>We look forward to seeing you there!</p>\n\nIf you need an accommodation to participate in this event, please contact the event sponsor or the Texas Law Special Events Office at specialevents@law.utexas.edu no later than seven business days prior to the event.
X-ALT-DESC;FMTTYPE=text/html:<p>The Women's Law Caucus' first meeting of the year is on Wednesday, September 19th at 6pm in TNH 2.138. </p>
  <p>Come sign-up for events and learn about what WLC is doing this semester and year.  Pizza will be served.  </p>
  <p>We look forward to seeing you there!</p><p>If you need an accommodation to participate in this event, please contact the event
                                          event sponsor or the Texas Law Special Events Office at <a href="mailto:specialevents@law.utexas.edu">specialevents@law.utexas.edu</a> no later than seven business days prior to the event.</p>
CATEGORIES:Meeting
LOCATION:TNH 2.138 - Blanton Classroom
URL:http://law.utexas.edu/calendar/2012/09/19/15050/
CLASS:PUBLIC
STATUS:CONFIRMED

END:VEVENT
END:VCALENDAR