BEGIN:VCALENDAR
VERSION:2.0
PRODID:-//UNIVERSITY OF TEXAS SCHOOL OF LAW//NONSGML Events Calendar v1.0//EN
X-WR-TIMEZONE:America/Chicago
BEGIN:VTIMEZONE
TZID:US/Central
X-LIC-LOCATION:America/Chicago
BEGIN:DAYLIGHT
TZOFFSETFROM:-0600
TZOFFSETTO:-0500
TZNAME:CDT
DTSTART:19700308T020000
RRULE:FREQ=YEARLY;BYMONTH=3;BYDAY=2SU
END:DAYLIGHT
BEGIN:STANDARD
TZOFFSETFROM:-0500
TZOFFSETTO:-0600
TZNAME:CST
DTSTART:19701101T020000
RRULE:FREQ=YEARLY;BYMONTH=11;BYDAY=1SU
END:STANDARD
END:VTIMEZONE
BEGIN:VEVENT
DTSTART;TZID=US/Central:20120919T154500
DTEND;VALUE=DATE-TIME;TZID=US/Central:20120919T164500

DTSTAMP:20260423T040600Z
CREATED:20120917T043900Z
LAST-MODIFIED:20120917T043900Z
UID:20120919T154500-15055@law.utexas.edu
SUMMARY:Yoga Club Meeting
DESCRIPTION:<p>The Law Yoga Club will be meeting at 3:45 in 3.140. All skill levels are welcome and the class is free. Please wear comfortable clothing and bring a mat if you have one. </p>\n\nIf you need an accommodation to participate in this event, please contact the event sponsor or the Texas Law Special Events Office at specialevents@law.utexas.edu no later than seven business days prior to the event.
X-ALT-DESC;FMTTYPE=text/html:<p>The Law Yoga Club will be meeting at 3:45 in 3.140. All skill levels are welcome and the class is free. Please wear comfortable clothing and bring a mat if you have one. </p><p>If you need an accommodation to participate in this event, please contact the event
                                          event sponsor or the Texas Law Special Events Office at <a href="mailto:specialevents@law.utexas.edu">specialevents@law.utexas.edu</a> no later than seven business days prior to the event.</p>


URL:http://law.utexas.edu/calendar/2012/09/19/15055/
CLASS:PUBLIC
STATUS:CONFIRMED

END:VEVENT
END:VCALENDAR