BEGIN:VCALENDAR
VERSION:2.0
PRODID:-//UNIVERSITY OF TEXAS SCHOOL OF LAW//NONSGML Events Calendar v1.0//EN
X-WR-TIMEZONE:America/Chicago
BEGIN:VTIMEZONE
TZID:US/Central
X-LIC-LOCATION:America/Chicago
BEGIN:DAYLIGHT
TZOFFSETFROM:-0600
TZOFFSETTO:-0500
TZNAME:CDT
DTSTART:19700308T020000
RRULE:FREQ=YEARLY;BYMONTH=3;BYDAY=2SU
END:DAYLIGHT
BEGIN:STANDARD
TZOFFSETFROM:-0500
TZOFFSETTO:-0600
TZNAME:CST
DTSTART:19701101T020000
RRULE:FREQ=YEARLY;BYMONTH=11;BYDAY=1SU
END:STANDARD
END:VTIMEZONE
BEGIN:VEVENT
DTSTART;TZID=US/Central:20120919T153000
DTEND;VALUE=DATE-TIME;TZID=US/Central:20120919T163000

DTSTAMP:20260423T040600Z
CREATED:20120917T094200Z
LAST-MODIFIED:20120917T094200Z
UID:20120919T153000-15058@law.utexas.edu
SUMMARY:LSRJ Meeting
DESCRIPTION:<p>The first Law Students for Reproductive Justice meeting of the year will be this Wednesday, 9/19, from 3:30 to 4:30pm in TNH 3.125.  We'll be talking about what Reproductive Justice is and what it means to all of us, as well as some of the events we have coming up this semester and volunteer opportunities in the community.</p>\n\nIf you need an accommodation to participate in this event, please contact the event sponsor or the Texas Law Special Events Office at specialevents@law.utexas.edu no later than seven business days prior to the event.
X-ALT-DESC;FMTTYPE=text/html:<p>The first Law Students for Reproductive Justice meeting of the year will be this Wednesday, 9/19, from 3:30 to 4:30pm in TNH 3.125.  We'll be talking about what Reproductive Justice is and what it means to all of us, as well as some of the events we have coming up this semester and volunteer opportunities in the community.</p><p>If you need an accommodation to participate in this event, please contact the event
                                          event sponsor or the Texas Law Special Events Office at <a href="mailto:specialevents@law.utexas.edu">specialevents@law.utexas.edu</a> no later than seven business days prior to the event.</p>
CATEGORIES:Meeting
LOCATION:TNH 3.125 - Denius Classroom
URL:http://law.utexas.edu/calendar/2012/09/19/15058/
CLASS:PUBLIC
STATUS:CONFIRMED

END:VEVENT
END:VCALENDAR