BEGIN:VCALENDAR
VERSION:2.0
PRODID:-//UNIVERSITY OF TEXAS SCHOOL OF LAW//NONSGML Events Calendar v1.0//EN
X-WR-TIMEZONE:America/Chicago
BEGIN:VTIMEZONE
TZID:US/Central
X-LIC-LOCATION:America/Chicago
BEGIN:DAYLIGHT
TZOFFSETFROM:-0600
TZOFFSETTO:-0500
TZNAME:CDT
DTSTART:19700308T020000
RRULE:FREQ=YEARLY;BYMONTH=3;BYDAY=2SU
END:DAYLIGHT
BEGIN:STANDARD
TZOFFSETFROM:-0500
TZOFFSETTO:-0600
TZNAME:CST
DTSTART:19701101T020000
RRULE:FREQ=YEARLY;BYMONTH=11;BYDAY=1SU
END:STANDARD
END:VTIMEZONE
BEGIN:VEVENT
DTSTART;TZID=US/Central:20120920T154500
DTEND;VALUE=DATE-TIME;TZID=US/Central:20120920T164500

DTSTAMP:20260423T040700Z
CREATED:20120828T192600Z
LAST-MODIFIED:20120918T185200Z
UID:20120920T154500-14911@law.utexas.edu
SUMMARY:Intro to Public Service Debt Management
DESCRIPTION:<p>Learn strategies to manage your educational debt, including the UT Law and federal loan repayment and forgiveness programs for lawyers pursuing jobs in the government and public interest sectors. Co-sponsored by the <a title="UT Law Career Services Office" href="http://www.utexas.edu/law/career">Career Services Office</a> and the<a title="William Wayne Justice Center for Public Interest Law" href="http://www.utexas.edu/law/centers/publicinterest/"> William Wayne Justice Center for Public Interest Law</a>. Refreshments will be served after the program. RSVP by Wednesday, September 19, on <a title="UT Law Symplicity" href="https://law-utexas-csm.symplicity.com/students/">UT Law Symplicity</a> by selecting the "Events" tab or RSVP to Victor Garcia at <a href="mailto:vgarcia@law.utexas.edu">vgarcia@law.utexas.edu</a> with the subject line “Debt Management”.</p>\n\nIf you need an accommodation to participate in this event, please contact the event sponsor or the Texas Law Special Events Office at specialevents@law.utexas.edu no later than seven business days prior to the event.
X-ALT-DESC;FMTTYPE=text/html:<p>Learn strategies to manage your educational debt, including the UT Law and federal loan repayment and forgiveness programs for lawyers pursuing jobs in the government and public interest sectors. Co-sponsored by the <a title="UT Law Career Services Office" href="http://www.utexas.edu/law/career">Career Services Office</a> and the<a title="William Wayne Justice Center for Public Interest Law" href="http://www.utexas.edu/law/centers/publicinterest/"> William Wayne Justice Center for Public Interest Law</a>. Refreshments will be served after the program. RSVP by Wednesday, September 19, on <a title="UT Law Symplicity" href="https://law-utexas-csm.symplicity.com/students/">UT Law Symplicity</a> by selecting the "Events" tab or RSVP to Victor Garcia at <a href="mailto:vgarcia@law.utexas.edu">vgarcia@law.utexas.edu</a> with the subject line “Debt Management”.</p><p>If you need an accommodation to participate in this event, please contact the event
                                          event sponsor or the Texas Law Special Events Office at <a href="mailto:specialevents@law.utexas.edu">specialevents@law.utexas.edu</a> no later than seven business days prior to the event.</p>
CATEGORIES:Workshop / Training Program
LOCATION:TNH 3.142 - Walker Classroom
URL:http://law.utexas.edu/calendar/2012/09/20/14911/
CLASS:PUBLIC
STATUS:CONFIRMED
COMMENT:Please contact Nicole Simmons, Public Interest Career Counselor, at 512-232-1160 or <a href="mailto:nsimmons@law.utexas.edu">nsimmons@law.utexas.edu</a>.
END:VEVENT
END:VCALENDAR