BEGIN:VCALENDAR
VERSION:2.0
PRODID:-//UNIVERSITY OF TEXAS SCHOOL OF LAW//NONSGML Events Calendar v1.0//EN
X-WR-TIMEZONE:America/Chicago
BEGIN:VTIMEZONE
TZID:US/Central
X-LIC-LOCATION:America/Chicago
BEGIN:DAYLIGHT
TZOFFSETFROM:-0600
TZOFFSETTO:-0500
TZNAME:CDT
DTSTART:19700308T020000
RRULE:FREQ=YEARLY;BYMONTH=3;BYDAY=2SU
END:DAYLIGHT
BEGIN:STANDARD
TZOFFSETFROM:-0500
TZOFFSETTO:-0600
TZNAME:CST
DTSTART:19701101T020000
RRULE:FREQ=YEARLY;BYMONTH=11;BYDAY=1SU
END:STANDARD
END:VTIMEZONE
BEGIN:VEVENT
DTSTART;TZID=US/Central:20120920T190000
DTEND;VALUE=DATE-TIME;TZID=US/Central:20120920T210000

DTSTAMP:20260423T040700Z
CREATED:20120912T190300Z
LAST-MODIFIED:20120912T190300Z
UID:20120920T190000-15038@law.utexas.edu
SUMMARY:Free Speech and Intellectual Property
DESCRIPTION:<p>An Expert Panel to Consider: 
  Do copyright protections hamper free speech? or facilitate it?
  Is a mash-up plagiarism? or creative expression?
  Does digitalization change the old rules?</p>
  <p>Robert Levine, Editor and Author covering the culture business
  Adam Mossoff, Professor of Law, George Mason University 
  Neil Netanel, Professor of Law, UCLA </p>\n\nIf you need an accommodation to participate in this event, please contact the event sponsor or the Texas Law Special Events Office at specialevents@law.utexas.edu no later than seven business days prior to the event.
X-ALT-DESC;FMTTYPE=text/html:<p>An Expert Panel to Consider: 
  Do copyright protections hamper free speech? or facilitate it?
  Is a mash-up plagiarism? or creative expression?
  Does digitalization change the old rules?</p>
  <p>Robert Levine, Editor and Author covering the culture business
  Adam Mossoff, Professor of Law, George Mason University 
  Neil Netanel, Professor of Law, UCLA </p><p>If you need an accommodation to participate in this event, please contact the event
                                          event sponsor or the Texas Law Special Events Office at <a href="mailto:specialevents@law.utexas.edu">specialevents@law.utexas.edu</a> no later than seven business days prior to the event.</p>
CATEGORIES:Panel Discussion / Speaker Series
LOCATION:Painter Hall, Room 2.48
URL:http://law.utexas.edu/calendar/2012/09/20/15038/
CLASS:PUBLIC
STATUS:CONFIRMED

END:VEVENT
END:VCALENDAR