BEGIN:VCALENDAR
VERSION:2.0
PRODID:-//UNIVERSITY OF TEXAS SCHOOL OF LAW//NONSGML Events Calendar v1.0//EN
X-WR-TIMEZONE:America/Chicago
BEGIN:VTIMEZONE
TZID:US/Central
X-LIC-LOCATION:America/Chicago
BEGIN:DAYLIGHT
TZOFFSETFROM:-0600
TZOFFSETTO:-0500
TZNAME:CDT
DTSTART:19700308T020000
RRULE:FREQ=YEARLY;BYMONTH=3;BYDAY=2SU
END:DAYLIGHT
BEGIN:STANDARD
TZOFFSETFROM:-0500
TZOFFSETTO:-0600
TZNAME:CST
DTSTART:19701101T020000
RRULE:FREQ=YEARLY;BYMONTH=11;BYDAY=1SU
END:STANDARD
END:VTIMEZONE
BEGIN:VEVENT
DTSTART;TZID=US/Central:20120920T131500
DTEND;VALUE=DATE-TIME;TZID=US/Central:20120920T141500

DTSTAMP:20260423T040600Z
CREATED:20120917T021400Z
LAST-MODIFIED:20120917T021400Z
UID:20120920T131500-15054@law.utexas.edu
SUMMARY:ACS Hosts Lunch with Professor Fishkin
DESCRIPTION:<p>Come learn about the recent re-districting and voter identification decisions and how they will impact Texas elections.  Hear what these decisions and others on the horizon mean for the Voting Rights Act. Professor Fishkin will be discussing these important voting rights decisions and answering question. Pizza will be provided.
   
   
  When: September 20, 2012, 1:15
  Where: TNH 3.125</p>\n\nIf you need an accommodation to participate in this event, please contact the event sponsor or the Texas Law Special Events Office at specialevents@law.utexas.edu no later than seven business days prior to the event.
X-ALT-DESC;FMTTYPE=text/html:<p>Come learn about the recent re-districting and voter identification decisions and how they will impact Texas elections.  Hear what these decisions and others on the horizon mean for the Voting Rights Act. Professor Fishkin will be discussing these important voting rights decisions and answering question. Pizza will be provided.
   
   
  When: September 20, 2012, 1:15
  Where: TNH 3.125</p><p>If you need an accommodation to participate in this event, please contact the event
                                          event sponsor or the Texas Law Special Events Office at <a href="mailto:specialevents@law.utexas.edu">specialevents@law.utexas.edu</a> no later than seven business days prior to the event.</p>
CATEGORIES:Lunch
LOCATION:TNH 3.125 - Denius Classroom
URL:http://law.utexas.edu/calendar/2012/09/20/15054/
CLASS:PUBLIC
STATUS:CONFIRMED

END:VEVENT
END:VCALENDAR