BEGIN:VCALENDAR
VERSION:2.0
PRODID:-//UNIVERSITY OF TEXAS SCHOOL OF LAW//NONSGML Events Calendar v1.0//EN
X-WR-TIMEZONE:America/Chicago
BEGIN:VTIMEZONE
TZID:US/Central
X-LIC-LOCATION:America/Chicago
BEGIN:DAYLIGHT
TZOFFSETFROM:-0600
TZOFFSETTO:-0500
TZNAME:CDT
DTSTART:19700308T020000
RRULE:FREQ=YEARLY;BYMONTH=3;BYDAY=2SU
END:DAYLIGHT
BEGIN:STANDARD
TZOFFSETFROM:-0500
TZOFFSETTO:-0600
TZNAME:CST
DTSTART:19701101T020000
RRULE:FREQ=YEARLY;BYMONTH=11;BYDAY=1SU
END:STANDARD
END:VTIMEZONE
BEGIN:VEVENT
DTSTART;TZID=US/Central:20120922T093000
DTEND;VALUE=DATE-TIME;TZID=US/Central:20120922T131500

DTSTAMP:20260423T040600Z
CREATED:20120831T142600Z
LAST-MODIFIED:20120917T055800Z
UID:20120922T093000-14941@law.utexas.edu
SUMMARY:DEW
DESCRIPTION:<p>CHLSA, TMLS, OUTLaw, and ALSA will be hosting the annual 2-day Diversity Education Weekend. September 22nd will feature panels of legal professionals focusing on Student Life, Leveraging Diversity in the Legal Profession, Service &amp; Diversity in the Austin Community, and Legal Writing. Dean Farnsworth will also be making remarks. Breakfast will be served at 9a, and lunch at 12p, in the Jamail Pavilion. Panels begin at 9:30 in the Eidman Courtroom. For questions, contact chlsa.president@gmail.com</p>\n\nIf you need an accommodation to participate in this event, please contact the event sponsor or the Texas Law Special Events Office at specialevents@law.utexas.edu no later than seven business days prior to the event.
X-ALT-DESC;FMTTYPE=text/html:<p>CHLSA, TMLS, OUTLaw, and ALSA will be hosting the annual 2-day Diversity Education Weekend. September 22nd will feature panels of legal professionals focusing on Student Life, Leveraging Diversity in the Legal Profession, Service &amp; Diversity in the Austin Community, and Legal Writing. Dean Farnsworth will also be making remarks. Breakfast will be served at 9a, and lunch at 12p, in the Jamail Pavilion. Panels begin at 9:30 in the Eidman Courtroom. For questions, contact chlsa.president@gmail.com</p><p>If you need an accommodation to participate in this event, please contact the event
                                          event sponsor or the Texas Law Special Events Office at <a href="mailto:specialevents@law.utexas.edu">specialevents@law.utexas.edu</a> no later than seven business days prior to the event.</p>
CATEGORIES:Panel Discussion / Speaker Series
LOCATION:CCJ 2.306 - Eidman Courtroom
URL:http://law.utexas.edu/calendar/2012/09/22/14941/
CLASS:PUBLIC
STATUS:CONFIRMED

END:VEVENT
END:VCALENDAR