BEGIN:VCALENDAR
VERSION:2.0
PRODID:-//UNIVERSITY OF TEXAS SCHOOL OF LAW//NONSGML Events Calendar v1.0//EN
X-WR-TIMEZONE:America/Chicago
BEGIN:VTIMEZONE
TZID:US/Central
X-LIC-LOCATION:America/Chicago
BEGIN:DAYLIGHT
TZOFFSETFROM:-0600
TZOFFSETTO:-0500
TZNAME:CDT
DTSTART:19700308T020000
RRULE:FREQ=YEARLY;BYMONTH=3;BYDAY=2SU
END:DAYLIGHT
BEGIN:STANDARD
TZOFFSETFROM:-0500
TZOFFSETTO:-0600
TZNAME:CST
DTSTART:19701101T020000
RRULE:FREQ=YEARLY;BYMONTH=11;BYDAY=1SU
END:STANDARD
END:VTIMEZONE
BEGIN:VEVENT
DTSTART;TZID=US/Central:20120924T120000
DTEND;VALUE=DATE-TIME;TZID=US/Central:20120924T130000

DTSTAMP:20260423T040600Z
CREATED:20120830T173400Z
LAST-MODIFIED:20120917T224300Z
UID:20120924T120000-14933@law.utexas.edu
SUMMARY:Career Exploration Series: Teaching Law
DESCRIPTION:<p>UT Law Professors Mitch Berman, Willy Forbath, and Jennifer Laurin, and Professor Bradley Areheart,  ’05, of the University of Tennessee College of Law, will discuss what it's like being a law professor and how to prepare now to be a competitive candidate. Lunch will be served. RSVP by Friday, September 21, on <a title="UT Law Symplicity" href="https://law-utexas-csm.symplicity.com/students/">UT Law Symplicity</a> by selecting the "Events" tab.</p>
  <p>The Career Exploration Series offers students an opportunity to learn more about different areas of the law and network with leading practitioners in these areas.</p>\n\nIf you need an accommodation to participate in this event, please contact the event sponsor or the Texas Law Special Events Office at specialevents@law.utexas.edu no later than seven business days prior to the event.
X-ALT-DESC;FMTTYPE=text/html:<p>UT Law Professors Mitch Berman, Willy Forbath, and Jennifer Laurin, and Professor Bradley Areheart,  ’05, of the University of Tennessee College of Law, will discuss what it's like being a law professor and how to prepare now to be a competitive candidate. Lunch will be served. RSVP by Friday, September 21, on <a title="UT Law Symplicity" href="https://law-utexas-csm.symplicity.com/students/">UT Law Symplicity</a> by selecting the "Events" tab.</p>
  <p>The Career Exploration Series offers students an opportunity to learn more about different areas of the law and network with leading practitioners in these areas.</p><p>If you need an accommodation to participate in this event, please contact the event
                                          event sponsor or the Texas Law Special Events Office at <a href="mailto:specialevents@law.utexas.edu">specialevents@law.utexas.edu</a> no later than seven business days prior to the event.</p>
CATEGORIES:Panel Discussion / Speaker Series
LOCATION:TNH 3.142 - Walker Classroom
URL:http://law.utexas.edu/calendar/2012/09/24/14933/
CLASS:PUBLIC
STATUS:CONFIRMED
COMMENT:Please contact Deb Freeman at 512-232-2162 or <a href="mailto:dfreeman@law.utexas.edu">dfreeman@law.utexas.edu</a>.
END:VEVENT
END:VCALENDAR