BEGIN:VCALENDAR
VERSION:2.0
PRODID:-//UNIVERSITY OF TEXAS SCHOOL OF LAW//NONSGML Events Calendar v1.0//EN
X-WR-TIMEZONE:America/Chicago
BEGIN:VTIMEZONE
TZID:US/Central
X-LIC-LOCATION:America/Chicago
BEGIN:DAYLIGHT
TZOFFSETFROM:-0600
TZOFFSETTO:-0500
TZNAME:CDT
DTSTART:19700308T020000
RRULE:FREQ=YEARLY;BYMONTH=3;BYDAY=2SU
END:DAYLIGHT
BEGIN:STANDARD
TZOFFSETFROM:-0500
TZOFFSETTO:-0600
TZNAME:CST
DTSTART:19701101T020000
RRULE:FREQ=YEARLY;BYMONTH=11;BYDAY=1SU
END:STANDARD
END:VTIMEZONE
BEGIN:VEVENT
DTSTART;TZID=US/Central:20120925T120000
DTEND;VALUE=DATE-TIME;TZID=US/Central:20120925T130000

DTSTAMP:20260423T040600Z
CREATED:20120830T175000Z
LAST-MODIFIED:20120921T173800Z
UID:20120925T120000-14935@law.utexas.edu
SUMMARY:Education Pioneers Fellowship
DESCRIPTION:<p><a title="Education Pioneers" href="http://www.educationpioneers.org/">Education Pioneers</a> is one of a very select few national organizations developing and infusing top leadership talent broadly into the education sector outside of the classroom. With a mission to identify, train, connect, and inspire a new generation of leaders dedicated to transforming America’s education system to ensure that all students receive a quality education. Education Pioneers has been building a nationwide network of high-potential professionals and supporting them to launch non-teaching education careers since 2003. Students are encouraged to stop by to learn more about their fellowships. Lunch will be served. Please RSVP by Monday, September 24, on <a title="UT Law Symplicity" href="https://law-utexas-csm.symplicity.com/students/">UT Law Symplicity</a> by selecting the "Events" tab.</p>\n\nIf you need an accommodation to participate in this event, please contact the event sponsor or the Texas Law Special Events Office at specialevents@law.utexas.edu no later than seven business days prior to the event.
X-ALT-DESC;FMTTYPE=text/html:<p><a title="Education Pioneers" href="http://www.educationpioneers.org/">Education Pioneers</a> is one of a very select few national organizations developing and infusing top leadership talent broadly into the education sector outside of the classroom. With a mission to identify, train, connect, and inspire a new generation of leaders dedicated to transforming America’s education system to ensure that all students receive a quality education. Education Pioneers has been building a nationwide network of high-potential professionals and supporting them to launch non-teaching education careers since 2003. Students are encouraged to stop by to learn more about their fellowships. Lunch will be served. Please RSVP by Monday, September 24, on <a title="UT Law Symplicity" href="https://law-utexas-csm.symplicity.com/students/">UT Law Symplicity</a> by selecting the "Events" tab.</p><p>If you need an accommodation to participate in this event, please contact the event
                                          event sponsor or the Texas Law Special Events Office at <a href="mailto:specialevents@law.utexas.edu">specialevents@law.utexas.edu</a> no later than seven business days prior to the event.</p>
CATEGORIES:Workshop / Training Program
LOCATION:TNH 3.124 - Neathery Classroom
URL:http://law.utexas.edu/calendar/2012/09/25/14935/
CLASS:PUBLIC
STATUS:CONFIRMED
COMMENT:Please contact Nicole Simmons, Public Interest Career Counselor, at 512-232-1160 or <a href="mailto:nsimmons@law.utexas.edu">nsimmons@law.utexas.edu</a>.
END:VEVENT
END:VCALENDAR