BEGIN:VCALENDAR
VERSION:2.0
PRODID:-//UNIVERSITY OF TEXAS SCHOOL OF LAW//NONSGML Events Calendar v1.0//EN
X-WR-TIMEZONE:America/Chicago
BEGIN:VTIMEZONE
TZID:US/Central
X-LIC-LOCATION:America/Chicago
BEGIN:DAYLIGHT
TZOFFSETFROM:-0600
TZOFFSETTO:-0500
TZNAME:CDT
DTSTART:19700308T020000
RRULE:FREQ=YEARLY;BYMONTH=3;BYDAY=2SU
END:DAYLIGHT
BEGIN:STANDARD
TZOFFSETFROM:-0500
TZOFFSETTO:-0600
TZNAME:CST
DTSTART:19701101T020000
RRULE:FREQ=YEARLY;BYMONTH=11;BYDAY=1SU
END:STANDARD
END:VTIMEZONE
BEGIN:VEVENT
DTSTART;TZID=US/Central:20120925T114500
DTEND;VALUE=DATE-TIME;TZID=US/Central:20120925T124500

DTSTAMP:20260423T040700Z
CREATED:20120907T172100Z
LAST-MODIFIED:20120920T195900Z
UID:20120925T114500-14997@law.utexas.edu
SUMMARY:Crim Law I Luncheon
DESCRIPTION:<p>This event will occur either Tuesday or Thursday of the Fall 2012 semester, starting next Thursday 09/13 at 1:30 until 2:30 in room TNH 5.257.  Lunch boxes  and water, cups and ice. follow</p>\n\nIf you need an accommodation to participate in this event, please contact the event sponsor or the Texas Law Special Events Office at specialevents@law.utexas.edu no later than seven business days prior to the event.
X-ALT-DESC;FMTTYPE=text/html:<p>This event will occur either Tuesday or Thursday of the Fall 2012 semester, starting next Thursday 09/13 at 1:30 until 2:30 in room TNH 5.257.  Lunch boxes  and water, cups and ice. follow</p><p>If you need an accommodation to participate in this event, please contact the event
                                          event sponsor or the Texas Law Special Events Office at <a href="mailto:specialevents@law.utexas.edu">specialevents@law.utexas.edu</a> no later than seven business days prior to the event.</p>
CATEGORIES:Lunch
LOCATION:JON 5.257 - Seminar Room
URL:http://law.utexas.edu/calendar/2012/09/25/14997/
CLASS:PUBLIC
STATUS:CONFIRMED

END:VEVENT
END:VCALENDAR