BEGIN:VCALENDAR
VERSION:2.0
PRODID:-//UNIVERSITY OF TEXAS SCHOOL OF LAW//NONSGML Events Calendar v1.0//EN
X-WR-TIMEZONE:America/Chicago
BEGIN:VTIMEZONE
TZID:US/Central
X-LIC-LOCATION:America/Chicago
BEGIN:DAYLIGHT
TZOFFSETFROM:-0600
TZOFFSETTO:-0500
TZNAME:CDT
DTSTART:19700308T020000
RRULE:FREQ=YEARLY;BYMONTH=3;BYDAY=2SU
END:DAYLIGHT
BEGIN:STANDARD
TZOFFSETFROM:-0500
TZOFFSETTO:-0600
TZNAME:CST
DTSTART:19701101T020000
RRULE:FREQ=YEARLY;BYMONTH=11;BYDAY=1SU
END:STANDARD
END:VTIMEZONE
BEGIN:VEVENT
DTSTART;TZID=US/Central:20120926T120000
DTEND;VALUE=DATE-TIME;TZID=US/Central:20120926T133000

DTSTAMP:20260423T040600Z
CREATED:20120916T001100Z
LAST-MODIFIED:20120916T001100Z
UID:20120926T120000-15051@law.utexas.edu
SUMMARY:Financial Regulation with Rob Ellsworth
DESCRIPTION:<p>Created in response to the Recession, the Consumer Financial Protection Bureau (CFPB) was borne of the Dodd-Frank Act, the most significant piece of financial regulation since the Great Depression. Together, the legislation and the agency that it created are supposed to make the financial system safer, but critics claim it is too convoluted to understand, let alone implement. Rob Ellsworth and Chris DiAngelo will explain how the Act came to fruition, what the current state of the CFPB is, and opportunities and challenges in this area going forward.</p>
  <p>Rob Ellsworth has worked for five members of the House and Senate. Most recently, he served as chief of staff to Representative Walt Minnick (D-ID), a member of the Financial Services Committee, at which point he worked closely with the office of Rep. Barney Frank (D-MA) to help craft the Dodd-Frank Act.</p>
  <p>During Chris DiAngelo's 30 years of practice, he has served as co-head of the structured finance group for Katten Muchin Rosemann and Dewey &amp; LeBoeuf. He has testified before the U.S. House Committee on Financial Services and frequently appears and provides commentary at industry forums on financial and regulatory matters.</p>\n\nIf you need an accommodation to participate in this event, please contact the event sponsor or the Texas Law Special Events Office at specialevents@law.utexas.edu no later than seven business days prior to the event.
X-ALT-DESC;FMTTYPE=text/html:<p>Created in response to the Recession, the Consumer Financial Protection Bureau (CFPB) was borne of the Dodd-Frank Act, the most significant piece of financial regulation since the Great Depression. Together, the legislation and the agency that it created are supposed to make the financial system safer, but critics claim it is too convoluted to understand, let alone implement. Rob Ellsworth and Chris DiAngelo will explain how the Act came to fruition, what the current state of the CFPB is, and opportunities and challenges in this area going forward.</p>
  <p>Rob Ellsworth has worked for five members of the House and Senate. Most recently, he served as chief of staff to Representative Walt Minnick (D-ID), a member of the Financial Services Committee, at which point he worked closely with the office of Rep. Barney Frank (D-MA) to help craft the Dodd-Frank Act.</p>
  <p>During Chris DiAngelo's 30 years of practice, he has served as co-head of the structured finance group for Katten Muchin Rosemann and Dewey &amp; LeBoeuf. He has testified before the U.S. House Committee on Financial Services and frequently appears and provides commentary at industry forums on financial and regulatory matters.</p><p>If you need an accommodation to participate in this event, please contact the event
                                          event sponsor or the Texas Law Special Events Office at <a href="mailto:specialevents@law.utexas.edu">specialevents@law.utexas.edu</a> no later than seven business days prior to the event.</p>
CATEGORIES:Lunch
LOCATION:CCJ 2.306 - Eidman Courtroom
URL:http://law.utexas.edu/calendar/2012/09/26/15051/
CLASS:PUBLIC
STATUS:CONFIRMED

END:VEVENT
END:VCALENDAR