BEGIN:VCALENDAR
VERSION:2.0
PRODID:-//UNIVERSITY OF TEXAS SCHOOL OF LAW//NONSGML Events Calendar v1.0//EN
X-WR-TIMEZONE:America/Chicago
BEGIN:VTIMEZONE
TZID:US/Central
X-LIC-LOCATION:America/Chicago
BEGIN:DAYLIGHT
TZOFFSETFROM:-0600
TZOFFSETTO:-0500
TZNAME:CDT
DTSTART:19700308T020000
RRULE:FREQ=YEARLY;BYMONTH=3;BYDAY=2SU
END:DAYLIGHT
BEGIN:STANDARD
TZOFFSETFROM:-0500
TZOFFSETTO:-0600
TZNAME:CST
DTSTART:19701101T020000
RRULE:FREQ=YEARLY;BYMONTH=11;BYDAY=1SU
END:STANDARD
END:VTIMEZONE
BEGIN:VEVENT
DTSTART;TZID=US/Central:20120927T173000
DTEND;VALUE=DATE-TIME;TZID=US/Central:20120927T190000

DTSTAMP:20260423T040700Z
CREATED:20120710T200500Z
LAST-MODIFIED:20120710T200500Z
UID:20120927T173000-14702@law.utexas.edu
SUMMARY:San Antonio Alumni Reception
DESCRIPTION:<p>The Alumni Association is having a reception for all San Antonio area alumni on Thursday, September 27 at Club Giraud, 707 North St. Marys Street, at 5:30 p.m.</p>\n\nIf you need an accommodation to participate in this event, please contact the event sponsor or the Texas Law Special Events Office at specialevents@law.utexas.edu no later than seven business days prior to the event.
X-ALT-DESC;FMTTYPE=text/html:<p>The Alumni Association is having a reception for all San Antonio area alumni on Thursday, September 27 at Club Giraud, 707 North St. Marys Street, at 5:30 p.m.</p><p>If you need an accommodation to participate in this event, please contact the event
                                          event sponsor or the Texas Law Special Events Office at <a href="mailto:specialevents@law.utexas.edu">specialevents@law.utexas.edu</a> no later than seven business days prior to the event.</p>
CATEGORIES:Reception

URL:http://law.utexas.edu/calendar/2012/09/27/14702/
CLASS:PUBLIC
STATUS:CONFIRMED

END:VEVENT
END:VCALENDAR