BEGIN:VCALENDAR
VERSION:2.0
PRODID:-//UNIVERSITY OF TEXAS SCHOOL OF LAW//NONSGML Events Calendar v1.0//EN
X-WR-TIMEZONE:America/Chicago
BEGIN:VTIMEZONE
TZID:US/Central
X-LIC-LOCATION:America/Chicago
BEGIN:DAYLIGHT
TZOFFSETFROM:-0600
TZOFFSETTO:-0500
TZNAME:CDT
DTSTART:19700308T020000
RRULE:FREQ=YEARLY;BYMONTH=3;BYDAY=2SU
END:DAYLIGHT
BEGIN:STANDARD
TZOFFSETFROM:-0500
TZOFFSETTO:-0600
TZNAME:CST
DTSTART:19701101T020000
RRULE:FREQ=YEARLY;BYMONTH=11;BYDAY=1SU
END:STANDARD
END:VTIMEZONE
BEGIN:VEVENT
DTSTART;TZID=US/Central:20120927T120000
DTEND;VALUE=DATE-TIME;TZID=US/Central:20120927T140000

DTSTAMP:20260423T040600Z
CREATED:20120905T142000Z
LAST-MODIFIED:20120917T205300Z
UID:20120927T120000-14967@law.utexas.edu
SUMMARY:Human Trafficking Lecture
DESCRIPTION:<p>Legal Advocacy to End Human Trafficking,” a talk by Robert Moossy, Acting Section Chief, Civil Rights Division Criminal Section, United States Department of Justice</p>
  <p>Co-sponsored by the UT Bureau of Business Research, the UT  Center for Women's and Gender Studies, and  the Institute on Domestic Violence &amp; Sexual Assault at the UT School of Social Work</p>\n\nIf you need an accommodation to participate in this event, please contact the event sponsor or the Texas Law Special Events Office at specialevents@law.utexas.edu no later than seven business days prior to the event.
X-ALT-DESC;FMTTYPE=text/html:<p>Legal Advocacy to End Human Trafficking,” a talk by Robert Moossy, Acting Section Chief, Civil Rights Division Criminal Section, United States Department of Justice</p>
  <p>Co-sponsored by the UT Bureau of Business Research, the UT  Center for Women's and Gender Studies, and  the Institute on Domestic Violence &amp; Sexual Assault at the UT School of Social Work</p><p>If you need an accommodation to participate in this event, please contact the event
                                          event sponsor or the Texas Law Special Events Office at <a href="mailto:specialevents@law.utexas.edu">specialevents@law.utexas.edu</a> no later than seven business days prior to the event.</p>
CATEGORIES:Other
LOCATION:CCJ 2.300 - Jamail Pavilion
URL:http://law.utexas.edu/calendar/2012/09/27/14967/
CLASS:PUBLIC
STATUS:CONFIRMED

END:VEVENT
END:VCALENDAR