BEGIN:VCALENDAR
VERSION:2.0
PRODID:-//UNIVERSITY OF TEXAS SCHOOL OF LAW//NONSGML Events Calendar v1.0//EN
X-WR-TIMEZONE:America/Chicago
BEGIN:VTIMEZONE
TZID:US/Central
X-LIC-LOCATION:America/Chicago
BEGIN:DAYLIGHT
TZOFFSETFROM:-0600
TZOFFSETTO:-0500
TZNAME:CDT
DTSTART:19700308T020000
RRULE:FREQ=YEARLY;BYMONTH=3;BYDAY=2SU
END:DAYLIGHT
BEGIN:STANDARD
TZOFFSETFROM:-0500
TZOFFSETTO:-0600
TZNAME:CST
DTSTART:19701101T020000
RRULE:FREQ=YEARLY;BYMONTH=11;BYDAY=1SU
END:STANDARD
END:VTIMEZONE
BEGIN:VEVENT
DTSTART;TZID=US/Central:20120927T113000
DTEND;VALUE=DATE-TIME;TZID=US/Central:20120927T123000

DTSTAMP:20260423T040700Z
CREATED:20120919T171600Z
LAST-MODIFIED:20120919T172900Z
UID:20120927T113000-15088@law.utexas.edu
SUMMARY:Voter Registration
DESCRIPTION:<p>UT Law Dems will be registering voters in the Atrium on Thursday, September 27, 2012 from 11:30am-12:30pm. Please stop by our table if you need to register for the first time, have moved recently, or have changed your name.</p>\n\nIf you need an accommodation to participate in this event, please contact the event sponsor or the Texas Law Special Events Office at specialevents@law.utexas.edu no later than seven business days prior to the event.
X-ALT-DESC;FMTTYPE=text/html:<p>UT Law Dems will be registering voters in the Atrium on Thursday, September 27, 2012 from 11:30am-12:30pm. Please stop by our table if you need to register for the first time, have moved recently, or have changed your name.</p><p>If you need an accommodation to participate in this event, please contact the event
                                          event sponsor or the Texas Law Special Events Office at <a href="mailto:specialevents@law.utexas.edu">specialevents@law.utexas.edu</a> no later than seven business days prior to the event.</p>

LOCATION:TNH 2.100 - Susman Godfrey Atrium
URL:http://law.utexas.edu/calendar/2012/09/27/15088/
CLASS:PUBLIC
STATUS:CONFIRMED

END:VEVENT
END:VCALENDAR