BEGIN:VCALENDAR
VERSION:2.0
PRODID:-//UNIVERSITY OF TEXAS SCHOOL OF LAW//NONSGML Events Calendar v1.0//EN
X-WR-TIMEZONE:America/Chicago
BEGIN:VTIMEZONE
TZID:US/Central
X-LIC-LOCATION:America/Chicago
BEGIN:DAYLIGHT
TZOFFSETFROM:-0600
TZOFFSETTO:-0500
TZNAME:CDT
DTSTART:19700308T020000
RRULE:FREQ=YEARLY;BYMONTH=3;BYDAY=2SU
END:DAYLIGHT
BEGIN:STANDARD
TZOFFSETFROM:-0500
TZOFFSETTO:-0600
TZNAME:CST
DTSTART:19701101T020000
RRULE:FREQ=YEARLY;BYMONTH=11;BYDAY=1SU
END:STANDARD
END:VTIMEZONE
BEGIN:VEVENT
DTSTART;TZID=US/Central:20121016T120000
DTEND;VALUE=DATE-TIME;TZID=US/Central:20121016T130000

DTSTAMP:20260423T022900Z
CREATED:20120807T210000Z
LAST-MODIFIED:20121015T204000Z
UID:20121016T120000-14784@law.utexas.edu
SUMMARY:Freshlaw Skills Session: Outlining
DESCRIPTION:<p>To outline or not to outline? Is that the question? Learn what an outline is and how it can help you. See examples of different forms of outlines. Yes, you have to do it yourself. Getting an outline from your roommate’s brother’s friend’s website won’t help you on the exam. Yes, you should already be thinking about exams. </p>\n\nIf you need an accommodation to participate in this event, please contact the event sponsor or the Texas Law Special Events Office at specialevents@law.utexas.edu no later than seven business days prior to the event.
X-ALT-DESC;FMTTYPE=text/html:<p>To outline or not to outline? Is that the question? Learn what an outline is and how it can help you. See examples of different forms of outlines. Yes, you have to do it yourself. Getting an outline from your roommate’s brother’s friend’s website won’t help you on the exam. Yes, you should already be thinking about exams. </p><p>If you need an accommodation to participate in this event, please contact the event
                                          event sponsor or the Texas Law Special Events Office at <a href="mailto:specialevents@law.utexas.edu">specialevents@law.utexas.edu</a> no later than seven business days prior to the event.</p>
CATEGORIES:Workshop / Training Program
LOCATION:TNH 2.114 - Francis Auditorium
URL:http://law.utexas.edu/calendar/2012/10/16/14784/
CLASS:PUBLIC
STATUS:CONFIRMED

END:VEVENT
END:VCALENDAR