BEGIN:VCALENDAR
VERSION:2.0
PRODID:-//UNIVERSITY OF TEXAS SCHOOL OF LAW//NONSGML Events Calendar v1.0//EN
X-WR-TIMEZONE:America/Chicago
BEGIN:VTIMEZONE
TZID:US/Central
X-LIC-LOCATION:America/Chicago
BEGIN:DAYLIGHT
TZOFFSETFROM:-0600
TZOFFSETTO:-0500
TZNAME:CDT
DTSTART:19700308T020000
RRULE:FREQ=YEARLY;BYMONTH=3;BYDAY=2SU
END:DAYLIGHT
BEGIN:STANDARD
TZOFFSETFROM:-0500
TZOFFSETTO:-0600
TZNAME:CST
DTSTART:19701101T020000
RRULE:FREQ=YEARLY;BYMONTH=11;BYDAY=1SU
END:STANDARD
END:VTIMEZONE
BEGIN:VEVENT
DTSTART;TZID=US/Central:20121017T114500


DTSTAMP:20260423T022900Z
CREATED:20120925T194600Z
LAST-MODIFIED:20121014T170000Z
UID:20121017T114500-15165@law.utexas.edu
SUMMARY:SBA Town Hall Meeting w/ Dean Farnsworth
DESCRIPTION:<p>Join the Student Bar Association and the Dean's Office at a Town Hall meeting with Dean Farnsworth on Wednesday, October 17 at 11:45 a.m. in TNH 3.142.</p>
  <p>Please stop by to discuss law school rankings, job prospects, course offerings and scheduling, and more!  There will be time for open Q&amp;A and discussion.  FREE LUNCH will be served!</p>\n\nIf you need an accommodation to participate in this event, please contact the event sponsor or the Texas Law Special Events Office at specialevents@law.utexas.edu no later than seven business days prior to the event.
X-ALT-DESC;FMTTYPE=text/html:<p>Join the Student Bar Association and the Dean's Office at a Town Hall meeting with Dean Farnsworth on Wednesday, October 17 at 11:45 a.m. in TNH 3.142.</p>
  <p>Please stop by to discuss law school rankings, job prospects, course offerings and scheduling, and more!  There will be time for open Q&amp;A and discussion.  FREE LUNCH will be served!</p><p>If you need an accommodation to participate in this event, please contact the event
                                          event sponsor or the Texas Law Special Events Office at <a href="mailto:specialevents@law.utexas.edu">specialevents@law.utexas.edu</a> no later than seven business days prior to the event.</p>

LOCATION:TNH 3.142 - Walker Classroom
URL:http://law.utexas.edu/calendar/2012/10/17/15165/
CLASS:PUBLIC
STATUS:CONFIRMED
COMMENT:http://www.utexas.edu/law/orgs/sba/SBA/Home.html
END:VEVENT
END:VCALENDAR