BEGIN:VCALENDAR
VERSION:2.0
PRODID:-//UNIVERSITY OF TEXAS SCHOOL OF LAW//NONSGML Events Calendar v1.0//EN
X-WR-TIMEZONE:America/Chicago
BEGIN:VTIMEZONE
TZID:US/Central
X-LIC-LOCATION:America/Chicago
BEGIN:DAYLIGHT
TZOFFSETFROM:-0600
TZOFFSETTO:-0500
TZNAME:CDT
DTSTART:19700308T020000
RRULE:FREQ=YEARLY;BYMONTH=3;BYDAY=2SU
END:DAYLIGHT
BEGIN:STANDARD
TZOFFSETFROM:-0500
TZOFFSETTO:-0600
TZNAME:CST
DTSTART:19701101T020000
RRULE:FREQ=YEARLY;BYMONTH=11;BYDAY=1SU
END:STANDARD
END:VTIMEZONE
BEGIN:VEVENT
DTSTART;TZID=US/Central:20121112T090000
DTEND;VALUE=DATE-TIME;TZID=US/Central:20121112T170000

DTSTAMP:20260423T010100Z
CREATED:20120918T180700Z
LAST-MODIFIED:20120918T224300Z
UID:20121112T090000-15074@law.utexas.edu
SUMMARY:SBA Blood Drive
DESCRIPTION:<p>The Student Bar Association is sponsoring a Blood Drive!</p>
  <p>Sign up for an appointment:
  1) If you have donated before, go to <a href="https://www.inyourhandsonline.org/index.cfm">https://www.inyourhandsonline.org/index.cfm</a> and login.
  2) If you are a first time donor, go to <a href="https://www.inyourhandsonline.org/index.cfm?group=registration&amp;function=appointment&amp;opID=0">https://www.inyourhandsonline.org/index.cfm?group=registration&amp;function=appointment&amp;opID=0</a> and enter your information.
  3) Once you have clicked submit, enter the following information into the first search option:
  Program code: law
  Date: 11/12/12
  4) This should return the blood drive at the law school. Click on it, and you can choose from the available appointments!</p>
  <p>If you have questions, please contact Nat Lipanovich, SBA Blood Drive Committee Chair at texas.sba@gmail.com.</p>
  <p>Please eat prior to donation; Photo ID required.</p>\n\nIf you need an accommodation to participate in this event, please contact the event sponsor or the Texas Law Special Events Office at specialevents@law.utexas.edu no later than seven business days prior to the event.
X-ALT-DESC;FMTTYPE=text/html:<p>The Student Bar Association is sponsoring a Blood Drive!</p>
  <p>Sign up for an appointment:
  1) If you have donated before, go to <a href="https://www.inyourhandsonline.org/index.cfm">https://www.inyourhandsonline.org/index.cfm</a> and login.
  2) If you are a first time donor, go to <a href="https://www.inyourhandsonline.org/index.cfm?group=registration&amp;function=appointment&amp;opID=0">https://www.inyourhandsonline.org/index.cfm?group=registration&amp;function=appointment&amp;opID=0</a> and enter your information.
  3) Once you have clicked submit, enter the following information into the first search option:
  Program code: law
  Date: 11/12/12
  4) This should return the blood drive at the law school. Click on it, and you can choose from the available appointments!</p>
  <p>If you have questions, please contact Nat Lipanovich, SBA Blood Drive Committee Chair at texas.sba@gmail.com.</p>
  <p>Please eat prior to donation; Photo ID required.</p><p>If you need an accommodation to participate in this event, please contact the event
                                          event sponsor or the Texas Law Special Events Office at <a href="mailto:specialevents@law.utexas.edu">specialevents@law.utexas.edu</a> no later than seven business days prior to the event.</p>

LOCATION:TNH 2.100 - Susman Godfrey Atrium
URL:http://law.utexas.edu/calendar/2012/11/12/15074/
CLASS:PUBLIC
STATUS:CONFIRMED
COMMENT:http://www.utexas.edu/law/orgs/sba/SBA/Home.html
END:VEVENT
END:VCALENDAR