BEGIN:VCALENDAR
VERSION:2.0
PRODID:-//UNIVERSITY OF TEXAS SCHOOL OF LAW//NONSGML Events Calendar v1.0//EN
X-WR-TIMEZONE:America/Chicago
BEGIN:VTIMEZONE
TZID:US/Central
X-LIC-LOCATION:America/Chicago
BEGIN:DAYLIGHT
TZOFFSETFROM:-0600
TZOFFSETTO:-0500
TZNAME:CDT
DTSTART:19700308T020000
RRULE:FREQ=YEARLY;BYMONTH=3;BYDAY=2SU
END:DAYLIGHT
BEGIN:STANDARD
TZOFFSETFROM:-0500
TZOFFSETTO:-0600
TZNAME:CST
DTSTART:19701101T020000
RRULE:FREQ=YEARLY;BYMONTH=11;BYDAY=1SU
END:STANDARD
END:VTIMEZONE
BEGIN:VEVENT
DTSTART;TZID=US/Central:20121112T120000
DTEND;VALUE=DATE-TIME;TZID=US/Central:20121112T130000

DTSTAMP:20260423T010100Z
CREATED:20121030T195600Z
LAST-MODIFIED:20121105T215500Z
UID:20121112T120000-15434@law.utexas.edu
SUMMARY:“From Civil Rights to Human Rights”
DESCRIPTION:<p>Monday, November 12, noon to 1 p.m., Eidman Courtroom</p>
  <p>Pizza to follow in the Pavilion</p>
  <p>Moderated by Professor Willy Forbath</p>
  <p>Presented by the Justice Center and the Rapoport Center</p>
  <p>Co-sponsored by:
  Chicano/Hispanic Law Students Association, Human Rights Law Society,
  Public Interest Law Association, Thurgood Marshall Legal Society,
  Texas Journal on Civil Liberties &amp; Civil Rights</p>
  <p>About Ramsey Clark:</p>
  <p>William Ramsey Clark was appointed Assistant Attorney General of the Lands Division by President Kennedy in 1961, when Clark was only 33 years old. After his tenure as AAG, Clark served as Deputy Attorney General from 1965 until 1967, when President Johnson appointed him the 66th U.S. Attorney General.  Clark served as the Attorney General until the end of the Johnson Administration in January 1969, and played an important role in the administration’s civil rights agenda, including supervising the drafting of the 1968 Civil Rights Act.  </p>
  <p>Following his term as Attorney General, Clark worked as a law professor and was active in the anti-Vietnam War movement.  He undertook two unsuccessful Senate campaigns in New York in 1974 and 1976.  Clark became an antiwar and civil rights activist, founding the International Action Center, and speaking out against the United States’ 1991 and 2003 military invasions of Iraq.  He has served as legal counsel to many controversial figures, including Slobodan Milosevic and Saddam Hussein.  In 2008 he received the United Nations Human Rights Prize.</p>
  <p>Clark was born in Dallas.  At the age of 17 he joined the Marine Corps, and served in Europe in the final months of World War II.  He received a bachelor’s degree from the University of Texas and a law degree from the University of Chicago.  After completing his education, Clark joined his father’s Texas law firm Clark, Reed and Clark, where he remained until he was appointed AAG. Clark’s father was former U.S. Attorney General and Supreme Court Justice Tom C. Clark.  </p>\n\nIf you need an accommodation to participate in this event, please contact the event sponsor or the Texas Law Special Events Office at specialevents@law.utexas.edu no later than seven business days prior to the event.
X-ALT-DESC;FMTTYPE=text/html:<p>Monday, November 12, noon to 1 p.m., Eidman Courtroom</p>
  <p>Pizza to follow in the Pavilion</p>
  <p>Moderated by Professor Willy Forbath</p>
  <p>Presented by the Justice Center and the Rapoport Center</p>
  <p>Co-sponsored by:
  Chicano/Hispanic Law Students Association, Human Rights Law Society,
  Public Interest Law Association, Thurgood Marshall Legal Society,
  Texas Journal on Civil Liberties &amp; Civil Rights</p>
  <p>About Ramsey Clark:</p>
  <p>William Ramsey Clark was appointed Assistant Attorney General of the Lands Division by President Kennedy in 1961, when Clark was only 33 years old. After his tenure as AAG, Clark served as Deputy Attorney General from 1965 until 1967, when President Johnson appointed him the 66th U.S. Attorney General.  Clark served as the Attorney General until the end of the Johnson Administration in January 1969, and played an important role in the administration’s civil rights agenda, including supervising the drafting of the 1968 Civil Rights Act.  </p>
  <p>Following his term as Attorney General, Clark worked as a law professor and was active in the anti-Vietnam War movement.  He undertook two unsuccessful Senate campaigns in New York in 1974 and 1976.  Clark became an antiwar and civil rights activist, founding the International Action Center, and speaking out against the United States’ 1991 and 2003 military invasions of Iraq.  He has served as legal counsel to many controversial figures, including Slobodan Milosevic and Saddam Hussein.  In 2008 he received the United Nations Human Rights Prize.</p>
  <p>Clark was born in Dallas.  At the age of 17 he joined the Marine Corps, and served in Europe in the final months of World War II.  He received a bachelor’s degree from the University of Texas and a law degree from the University of Chicago.  After completing his education, Clark joined his father’s Texas law firm Clark, Reed and Clark, where he remained until he was appointed AAG. Clark’s father was former U.S. Attorney General and Supreme Court Justice Tom C. Clark.  </p><p>If you need an accommodation to participate in this event, please contact the event
                                          event sponsor or the Texas Law Special Events Office at <a href="mailto:specialevents@law.utexas.edu">specialevents@law.utexas.edu</a> no later than seven business days prior to the event.</p>
CATEGORIES:Other
LOCATION:CCJ 2.306 - Eidman Courtroom
URL:http://law.utexas.edu/calendar/2012/11/12/15434/
CLASS:PUBLIC
STATUS:CONFIRMED

END:VEVENT
END:VCALENDAR