BEGIN:VCALENDAR
VERSION:2.0
PRODID:-//UNIVERSITY OF TEXAS SCHOOL OF LAW//NONSGML Events Calendar v1.0//EN
X-WR-TIMEZONE:America/Chicago
BEGIN:VTIMEZONE
TZID:US/Central
X-LIC-LOCATION:America/Chicago
BEGIN:DAYLIGHT
TZOFFSETFROM:-0600
TZOFFSETTO:-0500
TZNAME:CDT
DTSTART:19700308T020000
RRULE:FREQ=YEARLY;BYMONTH=3;BYDAY=2SU
END:DAYLIGHT
BEGIN:STANDARD
TZOFFSETFROM:-0500
TZOFFSETTO:-0600
TZNAME:CST
DTSTART:19701101T020000
RRULE:FREQ=YEARLY;BYMONTH=11;BYDAY=1SU
END:STANDARD
END:VTIMEZONE
BEGIN:VEVENT
DTSTART;TZID=US/Central:20121113T120000
DTEND;VALUE=DATE-TIME;TZID=US/Central:20121113T130000

DTSTAMP:20260423T010100Z
CREATED:20121010T185400Z
LAST-MODIFIED:20121101T200800Z
UID:20121113T120000-15283@law.utexas.edu
SUMMARY:How to Apply for Judicial Clerkships
DESCRIPTION:<p>This is the first of two <strong>mandatory </strong>meetings for 2Ls and 3Ls who will be applying for 2014-term clerkships. Note that the application process may begin sooner (in the spring) rather than summer/early fall.  UT Law Judicial Clerkship Advisors will discuss how to determine what courts you are competitive for, how to select judges, and how and when to apply for clerkships. For more information, visit the CSO's <a title="Judicial Clerkship Website" href="https://www.utexas.edu/law/career/judicial1/index.html">Judicial Clerkship website</a>.</p>
  <p>3Ls who applied for 2013-clerkships do not need to attend this meeting. However, should you choose to apply for the 2014 term, you must attend the second mandatory meeting (TBD) as federal judges are changing the application process and you will need to learn about it.</p>
  <p>Lunch will be served. Please RSVP by Monday, November 12, on <a title="UT Law Symplicity" href="https://law-utexas-csm.symplicity.com/students/">UT Law Symplicity</a> by selecting the 'Events' tab.</p>\n\nIf you need an accommodation to participate in this event, please contact the event sponsor or the Texas Law Special Events Office at specialevents@law.utexas.edu no later than seven business days prior to the event.
X-ALT-DESC;FMTTYPE=text/html:<p>This is the first of two <strong>mandatory </strong>meetings for 2Ls and 3Ls who will be applying for 2014-term clerkships. Note that the application process may begin sooner (in the spring) rather than summer/early fall.  UT Law Judicial Clerkship Advisors will discuss how to determine what courts you are competitive for, how to select judges, and how and when to apply for clerkships. For more information, visit the CSO's <a title="Judicial Clerkship Website" href="https://www.utexas.edu/law/career/judicial1/index.html">Judicial Clerkship website</a>.</p>
  <p>3Ls who applied for 2013-clerkships do not need to attend this meeting. However, should you choose to apply for the 2014 term, you must attend the second mandatory meeting (TBD) as federal judges are changing the application process and you will need to learn about it.</p>
  <p>Lunch will be served. Please RSVP by Monday, November 12, on <a title="UT Law Symplicity" href="https://law-utexas-csm.symplicity.com/students/">UT Law Symplicity</a> by selecting the 'Events' tab.</p><p>If you need an accommodation to participate in this event, please contact the event
                                          event sponsor or the Texas Law Special Events Office at <a href="mailto:specialevents@law.utexas.edu">specialevents@law.utexas.edu</a> no later than seven business days prior to the event.</p>

LOCATION:TNH 2.140 - Wright Classroom
URL:http://law.utexas.edu/calendar/2012/11/13/15283/
CLASS:PUBLIC
STATUS:CONFIRMED
COMMENT:Please contact Remi Ratliff, Director of Judicial Programs, at 512-232-1163 or <a href="mailto:rrattliff@law.utexas.edu">rratliff@law.utexas.edu</a>.
END:VEVENT
END:VCALENDAR