BEGIN:VCALENDAR
VERSION:2.0
PRODID:-//UNIVERSITY OF TEXAS SCHOOL OF LAW//NONSGML Events Calendar v1.0//EN
X-WR-TIMEZONE:America/Chicago
BEGIN:VTIMEZONE
TZID:US/Central
X-LIC-LOCATION:America/Chicago
BEGIN:DAYLIGHT
TZOFFSETFROM:-0600
TZOFFSETTO:-0500
TZNAME:CDT
DTSTART:19700308T020000
RRULE:FREQ=YEARLY;BYMONTH=3;BYDAY=2SU
END:DAYLIGHT
BEGIN:STANDARD
TZOFFSETFROM:-0500
TZOFFSETTO:-0600
TZNAME:CST
DTSTART:19701101T020000
RRULE:FREQ=YEARLY;BYMONTH=11;BYDAY=1SU
END:STANDARD
END:VTIMEZONE
BEGIN:VEVENT
DTSTART;TZID=US/Central:20121113T120000
DTEND;VALUE=DATE-TIME;TZID=US/Central:20121113T130000

DTSTAMP:20260423T010100Z
CREATED:20121107T223600Z
LAST-MODIFIED:20121107T223600Z
UID:20121113T120000-15469@law.utexas.edu
SUMMARY:Federalist Society - Cops &amp; Criminals
DESCRIPTION:<p>The Federalist Society will host Jack Kress who will give an interactive presentation involving videos and demonstrations about the decision-making process of police officers in the line of duty.</p>\n\nIf you need an accommodation to participate in this event, please contact the event sponsor or the Texas Law Special Events Office at specialevents@law.utexas.edu no later than seven business days prior to the event.
X-ALT-DESC;FMTTYPE=text/html:<p>The Federalist Society will host Jack Kress who will give an interactive presentation involving videos and demonstrations about the decision-making process of police officers in the line of duty.</p><p>If you need an accommodation to participate in this event, please contact the event
                                          event sponsor or the Texas Law Special Events Office at <a href="mailto:specialevents@law.utexas.edu">specialevents@law.utexas.edu</a> no later than seven business days prior to the event.</p>
CATEGORIES:Panel Discussion / Speaker Series
LOCATION:TNH 2.123 - Beck Classroom
URL:http://law.utexas.edu/calendar/2012/11/13/15469/
CLASS:PUBLIC
STATUS:CONFIRMED

END:VEVENT
END:VCALENDAR