BEGIN:VCALENDAR
VERSION:2.0
PRODID:-//UNIVERSITY OF TEXAS SCHOOL OF LAW//NONSGML Events Calendar v1.0//EN
X-WR-TIMEZONE:America/Chicago
BEGIN:VTIMEZONE
TZID:US/Central
X-LIC-LOCATION:America/Chicago
BEGIN:DAYLIGHT
TZOFFSETFROM:-0600
TZOFFSETTO:-0500
TZNAME:CDT
DTSTART:19700308T020000
RRULE:FREQ=YEARLY;BYMONTH=3;BYDAY=2SU
END:DAYLIGHT
BEGIN:STANDARD
TZOFFSETFROM:-0500
TZOFFSETTO:-0600
TZNAME:CST
DTSTART:19701101T020000
RRULE:FREQ=YEARLY;BYMONTH=11;BYDAY=1SU
END:STANDARD
END:VTIMEZONE
BEGIN:VEVENT
DTSTART;TZID=US/Central:20121113T173000
DTEND;VALUE=DATE-TIME;TZID=US/Central:20121113T183000

DTSTAMP:20260423T022900Z
CREATED:20121112T121300Z
LAST-MODIFIED:20121112T121300Z
UID:20121113T173000-15487@law.utexas.edu
SUMMARY:Breaking into the Music Law field
DESCRIPTION:<p>Law Students for the Arts will have 2 attorneys speak about their experience in the music industry, how they got into the field, and the Grammy Foundation's Entertainment Law Initiative's writing competition.</p>\n\nIf you need an accommodation to participate in this event, please contact the event sponsor or the Texas Law Special Events Office at specialevents@law.utexas.edu no later than seven business days prior to the event.
X-ALT-DESC;FMTTYPE=text/html:<p>Law Students for the Arts will have 2 attorneys speak about their experience in the music industry, how they got into the field, and the Grammy Foundation's Entertainment Law Initiative's writing competition.</p><p>If you need an accommodation to participate in this event, please contact the event
                                          event sponsor or the Texas Law Special Events Office at <a href="mailto:specialevents@law.utexas.edu">specialevents@law.utexas.edu</a> no later than seven business days prior to the event.</p>
CATEGORIES:Panel Discussion / Speaker Series
LOCATION:TNH 2.139 - Wilson Classroom
URL:http://law.utexas.edu/calendar/2012/11/13/15487/
CLASS:PUBLIC
STATUS:CONFIRMED

END:VEVENT
END:VCALENDAR