BEGIN:VCALENDAR
VERSION:2.0
PRODID:-//UNIVERSITY OF TEXAS SCHOOL OF LAW//NONSGML Events Calendar v1.0//EN
X-WR-TIMEZONE:America/Chicago
BEGIN:VTIMEZONE
TZID:US/Central
X-LIC-LOCATION:America/Chicago
BEGIN:DAYLIGHT
TZOFFSETFROM:-0600
TZOFFSETTO:-0500
TZNAME:CDT
DTSTART:19700308T020000
RRULE:FREQ=YEARLY;BYMONTH=3;BYDAY=2SU
END:DAYLIGHT
BEGIN:STANDARD
TZOFFSETFROM:-0500
TZOFFSETTO:-0600
TZNAME:CST
DTSTART:19701101T020000
RRULE:FREQ=YEARLY;BYMONTH=11;BYDAY=1SU
END:STANDARD
END:VTIMEZONE
BEGIN:VEVENT
DTSTART;TZID=US/Central:20121114T141500
DTEND;VALUE=DATE-TIME;TZID=US/Central:20121114T153000

DTSTAMP:20260423T010100Z
CREATED:20121107T215700Z
LAST-MODIFIED:20121114T151400Z
UID:20121114T141500-15468@law.utexas.edu
SUMMARY:Panel Discussion: A Market for Organs
DESCRIPTION:<p>The Health Law &amp; Bioethics Society will host a panel discussion on organ donation, specifically, creating a free market for organs.  Our speakers will be Ms. Jody Gibson of the Texas Organ Sharing Alliance and Professor John Robertson.  Topics covered will include federal law banning payment for organs, the organ donation process, and the implications of creating a free market for organs.  Interested individuals will also be able to register as organ donors following the event. Open to students, staff, faculty and the public. Refreshments will be provided. Event sponsored by the William Wayne Justice Center for Public Interest Law.</p>\n\nIf you need an accommodation to participate in this event, please contact the event sponsor or the Texas Law Special Events Office at specialevents@law.utexas.edu no later than seven business days prior to the event.
X-ALT-DESC;FMTTYPE=text/html:<p>The Health Law &amp; Bioethics Society will host a panel discussion on organ donation, specifically, creating a free market for organs.  Our speakers will be Ms. Jody Gibson of the Texas Organ Sharing Alliance and Professor John Robertson.  Topics covered will include federal law banning payment for organs, the organ donation process, and the implications of creating a free market for organs.  Interested individuals will also be able to register as organ donors following the event. Open to students, staff, faculty and the public. Refreshments will be provided. Event sponsored by the William Wayne Justice Center for Public Interest Law.</p><p>If you need an accommodation to participate in this event, please contact the event
                                          event sponsor or the Texas Law Special Events Office at <a href="mailto:specialevents@law.utexas.edu">specialevents@law.utexas.edu</a> no later than seven business days prior to the event.</p>
CATEGORIES:Panel Discussion / Speaker Series
LOCATION:TNH 3.140 - Jeffers Courtroom
URL:http://law.utexas.edu/calendar/2012/11/14/15468/
CLASS:PUBLIC
STATUS:CONFIRMED
COMMENT:email laylafawngarcia@gmail.com
END:VEVENT
END:VCALENDAR