BEGIN:VCALENDAR
VERSION:2.0
PRODID:-//UNIVERSITY OF TEXAS SCHOOL OF LAW//NONSGML Events Calendar v1.0//EN
X-WR-TIMEZONE:America/Chicago
BEGIN:VTIMEZONE
TZID:US/Central
X-LIC-LOCATION:America/Chicago
BEGIN:DAYLIGHT
TZOFFSETFROM:-0600
TZOFFSETTO:-0500
TZNAME:CDT
DTSTART:19700308T020000
RRULE:FREQ=YEARLY;BYMONTH=3;BYDAY=2SU
END:DAYLIGHT
BEGIN:STANDARD
TZOFFSETFROM:-0500
TZOFFSETTO:-0600
TZNAME:CST
DTSTART:19701101T020000
RRULE:FREQ=YEARLY;BYMONTH=11;BYDAY=1SU
END:STANDARD
END:VTIMEZONE
BEGIN:VEVENT
DTSTART;TZID=US/Central:20121115T140000
DTEND;VALUE=DATE-TIME;TZID=US/Central:20121115T163000

DTSTAMP:20260423T022900Z
CREATED:20121108T162400Z
LAST-MODIFIED:20121108T162400Z
UID:20121115T140000-15470@law.utexas.edu
SUMMARY:Public Interest Summer Jobs Open House
DESCRIPTION:<p>Come discuss your summer options with 2L and 3L mentors. Drop in any time with your questions, resumes and ideas!</p>
  <p>Snacks will be provided.</p>
  <p>Sponsored by the Public Interest Law Association, Human Rights Law Society, Texas Law Fellowships, and the William Wayne Justice Center for Public Interest Law.
  </p>\n\nIf you need an accommodation to participate in this event, please contact the event sponsor or the Texas Law Special Events Office at specialevents@law.utexas.edu no later than seven business days prior to the event.
X-ALT-DESC;FMTTYPE=text/html:<p>Come discuss your summer options with 2L and 3L mentors. Drop in any time with your questions, resumes and ideas!</p>
  <p>Snacks will be provided.</p>
  <p>Sponsored by the Public Interest Law Association, Human Rights Law Society, Texas Law Fellowships, and the William Wayne Justice Center for Public Interest Law.
  </p><p>If you need an accommodation to participate in this event, please contact the event
                                          event sponsor or the Texas Law Special Events Office at <a href="mailto:specialevents@law.utexas.edu">specialevents@law.utexas.edu</a> no later than seven business days prior to the event.</p>

LOCATION:CCJ 1.324, Justice Center Conference Room
URL:http://law.utexas.edu/calendar/2012/11/15/15470/
CLASS:PUBLIC
STATUS:CONFIRMED

END:VEVENT
END:VCALENDAR