BEGIN:VCALENDAR
VERSION:2.0
PRODID:-//UNIVERSITY OF TEXAS SCHOOL OF LAW//NONSGML Events Calendar v1.0//EN
X-WR-TIMEZONE:America/Chicago
BEGIN:VTIMEZONE
TZID:US/Central
X-LIC-LOCATION:America/Chicago
BEGIN:DAYLIGHT
TZOFFSETFROM:-0600
TZOFFSETTO:-0500
TZNAME:CDT
DTSTART:19700308T020000
RRULE:FREQ=YEARLY;BYMONTH=3;BYDAY=2SU
END:DAYLIGHT
BEGIN:STANDARD
TZOFFSETFROM:-0500
TZOFFSETTO:-0600
TZNAME:CST
DTSTART:19701101T020000
RRULE:FREQ=YEARLY;BYMONTH=11;BYDAY=1SU
END:STANDARD
END:VTIMEZONE
BEGIN:VEVENT
DTSTART;TZID=US/Central:20121115T130000
DTEND;VALUE=DATE-TIME;TZID=US/Central:20121115T141500

DTSTAMP:20260423T022900Z
CREATED:20121112T145800Z
LAST-MODIFIED:20121112T145800Z
UID:20121115T130000-15489@law.utexas.edu
SUMMARY:Progressive Lawyering in TX
DESCRIPTION:<p>Interested in finding out more about the progressive lawyering landscape in Texas --- and how can connect with progressive lawyers? Find out over free lunch!</p>
  <p>Join ACS, PILA, CHLSA, TMLS, and three fantastic local attorneys -- D'Ann Johnson, Rebecca Robertson, and David Weiser -- for free lunch and a discussion about a career in progressive lawyering in Texas in firm, government, and public interest environments.</p>
  <p>
  WHEN: Thursday, November 15 at 1:10
  WHERE: Room 3.124
  WHAT: Free pizza &amp; an engaging discussion with awesome progressive lawyers!
  CO-SPONSORED BY: American Constitution Society (ACS), Public Interest Law Association (PILA), Chicano/Hispanic Law Students' Association (CHLSA), Thurgood Marshall Law Society (TMLS)</p>
  <p>Our panelists:</p>
  <p>D'Ann Johnson
  D'Ann Johnson is the Austin Branch Manager at Texas Rio Grande Legal Aid. D'Ann has more than twenty years of legal experience in the areas of nonprofit management, banking policy, and the development of legal resources and training programs. An honors graduate of the University of Texas School of Law, D'Ann's prior work experience includes serving as legal counsel to state and local governmental entities and a nonprofit membership association of attorneys. She is a graduate of Leadership America, a Friar, and a founding board member of a pro bono legal program for immigrants. D'Ann is responsible for coordinating C-BAR's work with community-based nonprofits in rural communities. </p>
  <p>Rebecca Robertson
  Rebecca Robertson is the Legal and Policy Director of ACLU of Texas. Rebecca joined the ACLU in July 2011 after a 15-year career as a litigator. Rebecca was a partner in the international law firm Baker Botts, LLP. Her practice focused on complex commercial litigation, and she served as co-chair of the firm’s securities litigation practice group and chair of the firm’s LGBT affinity group. While at Baker Botts, Rebecca helped found the firm’s pro bono committee and led the amicus team working on the landmark civil rights case challenging the Texas sodomy law, Texas v. Lawrence. Rebecca also helped the Houston Volunteer Lawyers Program run legal clinics for poor Houstonians living with HIV/AIDS. Rebecca has been recognized by both the Houston Bar Association and the State Bar of Texas for her pro bono service. Rebecca is a graduate of the Harvard Law School , where she served as Executive Editor of the Harvard Law Review, and Rice University, where she received her B.A. magna cum laude.</p>
  <p>David Weiser
  David Weiser is a partner at Kator Parks &amp; Weiser, which is a small firm specializing in employment law. His practice concentrates on representation of employees before state and federal courts, the EEOC, and the MSPB, in both individual and class action litigation. His class action work includes prominent roles in Durnford v. Dept. of Justice, Lewis v. Dept. of Transportation (FAA), and McConnell v. U.S. Postal Service. David's work in individual cases includes representation of employees alleging sexual harassment, EEO retaliation, whistleblower retaliation, and discrimination based on sex, race, national origin, age, religion, and disability. He received his law degree from Yale Law School in 1986, where he was Senior Editor of the Yale Law and Policy Review. After law school, David served as a law clerk to Judge William Wayne Justice (E.D. Texas). David later was Assistant General Counsel to Texas Governor Ann Richards. He is the co-founder of the Austin Lawyer Chapter </p>\n\nIf you need an accommodation to participate in this event, please contact the event sponsor or the Texas Law Special Events Office at specialevents@law.utexas.edu no later than seven business days prior to the event.
X-ALT-DESC;FMTTYPE=text/html:<p>Interested in finding out more about the progressive lawyering landscape in Texas --- and how can connect with progressive lawyers? Find out over free lunch!</p>
  <p>Join ACS, PILA, CHLSA, TMLS, and three fantastic local attorneys -- D'Ann Johnson, Rebecca Robertson, and David Weiser -- for free lunch and a discussion about a career in progressive lawyering in Texas in firm, government, and public interest environments.</p>
  <p>
  WHEN: Thursday, November 15 at 1:10
  WHERE: Room 3.124
  WHAT: Free pizza &amp; an engaging discussion with awesome progressive lawyers!
  CO-SPONSORED BY: American Constitution Society (ACS), Public Interest Law Association (PILA), Chicano/Hispanic Law Students' Association (CHLSA), Thurgood Marshall Law Society (TMLS)</p>
  <p>Our panelists:</p>
  <p>D'Ann Johnson
  D'Ann Johnson is the Austin Branch Manager at Texas Rio Grande Legal Aid. D'Ann has more than twenty years of legal experience in the areas of nonprofit management, banking policy, and the development of legal resources and training programs. An honors graduate of the University of Texas School of Law, D'Ann's prior work experience includes serving as legal counsel to state and local governmental entities and a nonprofit membership association of attorneys. She is a graduate of Leadership America, a Friar, and a founding board member of a pro bono legal program for immigrants. D'Ann is responsible for coordinating C-BAR's work with community-based nonprofits in rural communities. </p>
  <p>Rebecca Robertson
  Rebecca Robertson is the Legal and Policy Director of ACLU of Texas. Rebecca joined the ACLU in July 2011 after a 15-year career as a litigator. Rebecca was a partner in the international law firm Baker Botts, LLP. Her practice focused on complex commercial litigation, and she served as co-chair of the firm’s securities litigation practice group and chair of the firm’s LGBT affinity group. While at Baker Botts, Rebecca helped found the firm’s pro bono committee and led the amicus team working on the landmark civil rights case challenging the Texas sodomy law, Texas v. Lawrence. Rebecca also helped the Houston Volunteer Lawyers Program run legal clinics for poor Houstonians living with HIV/AIDS. Rebecca has been recognized by both the Houston Bar Association and the State Bar of Texas for her pro bono service. Rebecca is a graduate of the Harvard Law School , where she served as Executive Editor of the Harvard Law Review, and Rice University, where she received her B.A. magna cum laude.</p>
  <p>David Weiser
  David Weiser is a partner at Kator Parks &amp; Weiser, which is a small firm specializing in employment law. His practice concentrates on representation of employees before state and federal courts, the EEOC, and the MSPB, in both individual and class action litigation. His class action work includes prominent roles in Durnford v. Dept. of Justice, Lewis v. Dept. of Transportation (FAA), and McConnell v. U.S. Postal Service. David's work in individual cases includes representation of employees alleging sexual harassment, EEO retaliation, whistleblower retaliation, and discrimination based on sex, race, national origin, age, religion, and disability. He received his law degree from Yale Law School in 1986, where he was Senior Editor of the Yale Law and Policy Review. After law school, David served as a law clerk to Judge William Wayne Justice (E.D. Texas). David later was Assistant General Counsel to Texas Governor Ann Richards. He is the co-founder of the Austin Lawyer Chapter </p><p>If you need an accommodation to participate in this event, please contact the event
                                          event sponsor or the Texas Law Special Events Office at <a href="mailto:specialevents@law.utexas.edu">specialevents@law.utexas.edu</a> no later than seven business days prior to the event.</p>
CATEGORIES:Panel Discussion / Speaker Series
LOCATION:TNH 3.124 - Neathery Classroom
URL:http://law.utexas.edu/calendar/2012/11/15/15489/
CLASS:PUBLIC
STATUS:CONFIRMED

END:VEVENT
END:VCALENDAR