BEGIN:VCALENDAR
VERSION:2.0
PRODID:-//UNIVERSITY OF TEXAS SCHOOL OF LAW//NONSGML Events Calendar v1.0//EN
X-WR-TIMEZONE:America/Chicago
BEGIN:VTIMEZONE
TZID:US/Central
X-LIC-LOCATION:America/Chicago
BEGIN:DAYLIGHT
TZOFFSETFROM:-0600
TZOFFSETTO:-0500
TZNAME:CDT
DTSTART:19700308T020000
RRULE:FREQ=YEARLY;BYMONTH=3;BYDAY=2SU
END:DAYLIGHT
BEGIN:STANDARD
TZOFFSETFROM:-0500
TZOFFSETTO:-0600
TZNAME:CST
DTSTART:19701101T020000
RRULE:FREQ=YEARLY;BYMONTH=11;BYDAY=1SU
END:STANDARD
END:VTIMEZONE
BEGIN:VEVENT
DTSTART;TZID=US/Central:20121116T080000
DTEND;VALUE=DATE-TIME;TZID=US/Central:20121116T100000

DTSTAMP:20260423T010100Z
CREATED:20121114T174400Z
LAST-MODIFIED:20121114T174400Z
UID:20121116T080000-15500@law.utexas.edu
SUMMARY:Women at the Intersection of Law &amp; Scien
DESCRIPTION:<p>The Center is interested in increasing the number of women practicing IP Law. Join key women in law and in the sciences as they discuss how they can work together to advance women in their respective fields.</p>
  <p>Guest Speaker: Pamela J. Hines, Ph.D.</p>
  <p>Location: TNH 3.119F - Conference Room</p>
  <p>If you are interested in attending this breakfast, please e-mail mgalusky@law.utexas.edu by Thursday, November 15th. </p>\n\nIf you need an accommodation to participate in this event, please contact the event sponsor or the Texas Law Special Events Office at specialevents@law.utexas.edu no later than seven business days prior to the event.
X-ALT-DESC;FMTTYPE=text/html:<p>The Center is interested in increasing the number of women practicing IP Law. Join key women in law and in the sciences as they discuss how they can work together to advance women in their respective fields.</p>
  <p>Guest Speaker: Pamela J. Hines, Ph.D.</p>
  <p>Location: TNH 3.119F - Conference Room</p>
  <p>If you are interested in attending this breakfast, please e-mail mgalusky@law.utexas.edu by Thursday, November 15th. </p><p>If you need an accommodation to participate in this event, please contact the event
                                          event sponsor or the Texas Law Special Events Office at <a href="mailto:specialevents@law.utexas.edu">specialevents@law.utexas.edu</a> no later than seven business days prior to the event.</p>

LOCATION:TNH 3.119F
URL:http://law.utexas.edu/calendar/2012/11/16/15500/
CLASS:PUBLIC
STATUS:CONFIRMED

END:VEVENT
END:VCALENDAR