BEGIN:VCALENDAR
VERSION:2.0
PRODID:-//UNIVERSITY OF TEXAS SCHOOL OF LAW//NONSGML Events Calendar v1.0//EN
X-WR-TIMEZONE:America/Chicago
BEGIN:VTIMEZONE
TZID:US/Central
X-LIC-LOCATION:America/Chicago
BEGIN:DAYLIGHT
TZOFFSETFROM:-0600
TZOFFSETTO:-0500
TZNAME:CDT
DTSTART:19700308T020000
RRULE:FREQ=YEARLY;BYMONTH=3;BYDAY=2SU
END:DAYLIGHT
BEGIN:STANDARD
TZOFFSETFROM:-0500
TZOFFSETTO:-0600
TZNAME:CST
DTSTART:19701101T020000
RRULE:FREQ=YEARLY;BYMONTH=11;BYDAY=1SU
END:STANDARD
END:VTIMEZONE
BEGIN:VEVENT
DTSTART;TZID=US/Central:20121120T113000
DTEND;VALUE=DATE-TIME;TZID=US/Central:20121120T130000

DTSTAMP:20260423T001600Z
CREATED:20121112T204400Z
LAST-MODIFIED:20121113T171300Z
UID:20121120T113000-15494@law.utexas.edu
SUMMARY:Legal Writing &amp; Research Class w/Lunch
DESCRIPTION:<p>I’ll be holding a make-up class on Tuesday, November 20 from 11:50-12:50.  This will be a joint class for my two section, so I need a food-friendly room that accommodates 50 students for that time.  </p>
  <p>Also, I’ll need food! 
  </p>\n\nIf you need an accommodation to participate in this event, please contact the event sponsor or the Texas Law Special Events Office at specialevents@law.utexas.edu no later than seven business days prior to the event.
X-ALT-DESC;FMTTYPE=text/html:<p>I’ll be holding a make-up class on Tuesday, November 20 from 11:50-12:50.  This will be a joint class for my two section, so I need a food-friendly room that accommodates 50 students for that time.  </p>
  <p>Also, I’ll need food! 
  </p><p>If you need an accommodation to participate in this event, please contact the event
                                          event sponsor or the Texas Law Special Events Office at <a href="mailto:specialevents@law.utexas.edu">specialevents@law.utexas.edu</a> no later than seven business days prior to the event.</p>
CATEGORIES:Other
LOCATION:TNH 2.114 - Francis Auditorium
URL:http://law.utexas.edu/calendar/2012/11/20/15494/
CLASS:PUBLIC
STATUS:CONFIRMED

END:VEVENT
END:VCALENDAR