BEGIN:VCALENDAR
VERSION:2.0
PRODID:-//UNIVERSITY OF TEXAS SCHOOL OF LAW//NONSGML Events Calendar v1.0//EN
X-WR-TIMEZONE:America/Chicago
BEGIN:VTIMEZONE
TZID:US/Central
X-LIC-LOCATION:America/Chicago
BEGIN:DAYLIGHT
TZOFFSETFROM:-0600
TZOFFSETTO:-0500
TZNAME:CDT
DTSTART:19700308T020000
RRULE:FREQ=YEARLY;BYMONTH=3;BYDAY=2SU
END:DAYLIGHT
BEGIN:STANDARD
TZOFFSETFROM:-0500
TZOFFSETTO:-0600
TZNAME:CST
DTSTART:19701101T020000
RRULE:FREQ=YEARLY;BYMONTH=11;BYDAY=1SU
END:STANDARD
END:VTIMEZONE
BEGIN:VEVENT
DTSTART;TZID=US/Central:20121217
DTEND;TZID=US/Central:20121218
X-MICROSOFT-CDO-ALLDAYEVENT:TRUE
X-FUNAMBOL-ALLDAY:TRUE
DTSTAMP:20260422T224900Z
CREATED:20121114T175400Z
LAST-MODIFIED:20121114T175400Z
UID:20121217T000000-15502@law.utexas.edu
SUMMARY:AJCL Book Drive
DESCRIPTION:<p>The American Journal of Criminal Law will be collecting books to donate to the Inside Books Project from Monday, November 19 through Wednesday, November 21. There will be a bin in the Atrium where books can be placed for donation.</p>
  <p>The Inside Books Project is based in central Austin and is an all volunteer, non-profit organization sending free books and educational materials to people in prison in the state of Texas. Inside Books works to promote reading, literacy and education among incarcerated individuals and to educate the general public on issues of incarceration. </p>\n\nIf you need an accommodation to participate in this event, please contact the event sponsor or the Texas Law Special Events Office at specialevents@law.utexas.edu no later than seven business days prior to the event.
X-ALT-DESC;FMTTYPE=text/html:<p>The American Journal of Criminal Law will be collecting books to donate to the Inside Books Project from Monday, November 19 through Wednesday, November 21. There will be a bin in the Atrium where books can be placed for donation.</p>
  <p>The Inside Books Project is based in central Austin and is an all volunteer, non-profit organization sending free books and educational materials to people in prison in the state of Texas. Inside Books works to promote reading, literacy and education among incarcerated individuals and to educate the general public on issues of incarceration. </p><p>If you need an accommodation to participate in this event, please contact the event
                                          event sponsor or the Texas Law Special Events Office at <a href="mailto:specialevents@law.utexas.edu">specialevents@law.utexas.edu</a> no later than seven business days prior to the event.</p>
CATEGORIES:Other
LOCATION:TNH 2.100 - Susman Godfrey Atrium
URL:http://law.utexas.edu/calendar/2012/12/17/15502/
CLASS:PUBLIC
STATUS:CONFIRMED

END:VEVENT
END:VCALENDAR