BEGIN:VCALENDAR
VERSION:2.0
PRODID:-//UNIVERSITY OF TEXAS SCHOOL OF LAW//NONSGML Events Calendar v1.0//EN
X-WR-TIMEZONE:America/Chicago
BEGIN:VTIMEZONE
TZID:US/Central
X-LIC-LOCATION:America/Chicago
BEGIN:DAYLIGHT
TZOFFSETFROM:-0600
TZOFFSETTO:-0500
TZNAME:CDT
DTSTART:19700308T020000
RRULE:FREQ=YEARLY;BYMONTH=3;BYDAY=2SU
END:DAYLIGHT
BEGIN:STANDARD
TZOFFSETFROM:-0500
TZOFFSETTO:-0600
TZNAME:CST
DTSTART:19701101T020000
RRULE:FREQ=YEARLY;BYMONTH=11;BYDAY=1SU
END:STANDARD
END:VTIMEZONE
BEGIN:VEVENT
DTSTART;TZID=US/Central:20130128T120000
DTEND;VALUE=DATE-TIME;TZID=US/Central:20130128T171500

DTSTAMP:20260422T224900Z
CREATED:20130122T173500Z
LAST-MODIFIED:20130122T173500Z
UID:20130128T120000-15923@law.utexas.edu
SUMMARY:2013 RENEWABLE ENERGY INSTITUTE
DESCRIPTION:<p>In 2013, the Renewable Energy Institute widens its scope to address developments on the state, national and international scale. Join A-list speakers including former Colorado Governor and current Director of the Center for the New Energy Economy, Bill Ritter, and FERC Chairman, Jon Wellinghoff, for two and a half days of presentations covering legal updates, practice tips and broader policy discussions about renewable energy now and in the future.</p>
  <p>Institute highlights include:</p>
  <p>    International Renewable Energy Track focuses on developing international renewable energy projects, with case studies of Brazil, Turkey, Poland and Mexico</p>
  <p>    Nuts and Bolts of Renewable Energy Track focuses on financing, tax risks and incentives, power purchase agreements, surface usage conflicts with mineral exploration, new ALTA title insurance endorsements, revisions to the FTC Green Guides, severance of wind rights and wind leases</p>
  <p>    A comprehensive cost and benefit comparison of renewable energy vs. fossil fuels, the influence of the natural gas boom on renewable energy and a utility roundtable from the energy buyer’s perspective</p>
  <p>    Success stories of renewable energy development from Arizona State Land Commissioner, Vanessa Hickman, and Former Colorado Governor, Bill Ritter</p>
  <p>    Legislative, regulatory, litigation and policy updates for wind, solar, storage and distributed energy in Texas and nationwide, with a special focus on three storage facilities currently in operation–including the McIntosh CAES facility</p>
  <p>    The role of the United States Army in renewable energy innovation is presented by John Lushetsky, Executive Director of the U.S. Army Energy Initiatives Task Force</p>
  <p>The program includes faculty and sponsors representing internationally recognized organizations and firms from across all sectors involved in the renewable energy industry—with local, state and federal government agencies, energy providers and cooperatives, national renewable energy advocacy associations and experts from Poland, Turkey and Brazil. </p>\n\nIf you need an accommodation to participate in this event, please contact the event sponsor or the Texas Law Special Events Office at specialevents@law.utexas.edu no later than seven business days prior to the event.
X-ALT-DESC;FMTTYPE=text/html:<p>In 2013, the Renewable Energy Institute widens its scope to address developments on the state, national and international scale. Join A-list speakers including former Colorado Governor and current Director of the Center for the New Energy Economy, Bill Ritter, and FERC Chairman, Jon Wellinghoff, for two and a half days of presentations covering legal updates, practice tips and broader policy discussions about renewable energy now and in the future.</p>
  <p>Institute highlights include:</p>
  <p>    International Renewable Energy Track focuses on developing international renewable energy projects, with case studies of Brazil, Turkey, Poland and Mexico</p>
  <p>    Nuts and Bolts of Renewable Energy Track focuses on financing, tax risks and incentives, power purchase agreements, surface usage conflicts with mineral exploration, new ALTA title insurance endorsements, revisions to the FTC Green Guides, severance of wind rights and wind leases</p>
  <p>    A comprehensive cost and benefit comparison of renewable energy vs. fossil fuels, the influence of the natural gas boom on renewable energy and a utility roundtable from the energy buyer’s perspective</p>
  <p>    Success stories of renewable energy development from Arizona State Land Commissioner, Vanessa Hickman, and Former Colorado Governor, Bill Ritter</p>
  <p>    Legislative, regulatory, litigation and policy updates for wind, solar, storage and distributed energy in Texas and nationwide, with a special focus on three storage facilities currently in operation–including the McIntosh CAES facility</p>
  <p>    The role of the United States Army in renewable energy innovation is presented by John Lushetsky, Executive Director of the U.S. Army Energy Initiatives Task Force</p>
  <p>The program includes faculty and sponsors representing internationally recognized organizations and firms from across all sectors involved in the renewable energy industry—with local, state and federal government agencies, energy providers and cooperatives, national renewable energy advocacy associations and experts from Poland, Turkey and Brazil. </p><p>If you need an accommodation to participate in this event, please contact the event
                                          event sponsor or the Texas Law Special Events Office at <a href="mailto:specialevents@law.utexas.edu">specialevents@law.utexas.edu</a> no later than seven business days prior to the event.</p>
CATEGORIES:Other

URL:http://law.utexas.edu/calendar/2013/01/28/15923/
CLASS:PUBLIC
STATUS:CONFIRMED
COMMENT:http://www.utcle.org/conferences/WE13
END:VEVENT
END:VCALENDAR